BEGIN:VCALENDAR
VERSION:2.0
PRODID:-//Patriot Guard Riders - ECPv5.3.2.1//NONSGML v1.0//EN
CALSCALE:GREGORIAN
METHOD:PUBLISH
X-WR-CALNAME:Patriot Guard Riders
X-ORIGINAL-URL:https://www.patriotguard.org
X-WR-CALDESC:Events for Patriot Guard Riders
BEGIN:VTIMEZONE
TZID:America/New_York
BEGIN:DAYLIGHT
TZOFFSETFROM:-0500
TZOFFSETTO:-0400
TZNAME:EDT
DTSTART:20190310T070000
END:DAYLIGHT
BEGIN:STANDARD
TZOFFSETFROM:-0400
TZOFFSETTO:-0500
TZNAME:EST
DTSTART:20191103T060000
END:STANDARD
END:VTIMEZONE
BEGIN:VEVENT
DTSTART;VALUE=DATE:20190418
DTEND;VALUE=DATE:20190419
DTSTAMP:20210404T091227
CREATED:20190416T001346Z
LAST-MODIFIED:20190416T001346Z
UID:157463-1555545600-1555631999@www.patriotguard.org
SUMMARY:Richard Bartlett Weyenberg
DESCRIPTION:Honor Mission\nRichard Bartlett Weyenberg\nUSN\, Korea\nRedding\, California – 04-18-19\n\n\n\nABOUT THE MISSION: \nAK/3 Richard Bartlett Weyenberg served honorably in the United States Navy during the Korean War from 1952 to 1954. He was awarded the Good Conduct Medal\, the United Nations Medal\, the Korean War Medal and the National Defense Medal.\n\n\nPRIMARY STAGING DETAILS: 04-18-19 \nStaging Time: 11:00 am\n \nBlairs\n5530 Mountain View Drive\nRedding\, California 96003\n\n\nRide Captain: \nRobert V. Prosser\n10835 Hufford Ranch Road\, Whitmore\, CA 96096\n530 472-3350\nbvprosser@yahoo.com\n\n\nSpecial Instructions: \n\n\nFlags & Water:\n\n\nFlags will not be provided\nIf you have large bike flags\, please bring them.\nWater WILL NOT be provided\, please bring your own.\n\n\nSubmitted By: Robert Prosser \nPosition: California Assistant State Captain \n\nNote: You do not have to own/ride a motorcycle or be a veteran to join\, and membership is Free. The only requirement is RESPECT! To subscribe to receive mission notices\, log into the National Site and click on the Members tab at the top. Select the Subscribe to PGR Missions option.\n Print This Page
URL:https://www.patriotguard.org/mission/richard-bartlett-weyenberg/
CATEGORIES:Honor Mission
END:VEVENT
END:VCALENDAR