BEGIN:VCALENDAR
VERSION:2.0
PRODID:-//Patriot Guard Riders - ECPv5.3.2.1//NONSGML v1.0//EN
CALSCALE:GREGORIAN
METHOD:PUBLISH
X-WR-CALNAME:Patriot Guard Riders
X-ORIGINAL-URL:https://www.patriotguard.org
X-WR-CALDESC:Events for Patriot Guard Riders
BEGIN:VTIMEZONE
TZID:America/New_York
BEGIN:DAYLIGHT
TZOFFSETFROM:-0500
TZOFFSETTO:-0400
TZNAME:EDT
DTSTART:20190310T070000
END:DAYLIGHT
BEGIN:STANDARD
TZOFFSETFROM:-0400
TZOFFSETTO:-0500
TZNAME:EST
DTSTART:20191103T060000
END:STANDARD
END:VTIMEZONE
BEGIN:VEVENT
DTSTART;VALUE=DATE:20190616
DTEND;VALUE=DATE:20190618
DTSTAMP:20210405T040358
CREATED:20190614T230612Z
LAST-MODIFIED:20190614T230612Z
UID:164800-1560643200-1560815999@www.patriotguard.org
SUMMARY:Richard Ansley Farr\, Jr.
DESCRIPTION:Honor Mission\nRichard Ansley Farr\, Jr.\, Veteran\nUSA – WWII\nRidgeland\, Mississippi – 06-16-19\n\n\n\nABOUT THE MISSION: \nWe are sad to report the death of U.S. Army Tec5 Richard Ansley Farr\, Jr. He passed away on June 12\, 2019. The family has requested Patriot Guard Riders to participate in his services. It will be our honor to do so. He proudly and honorably served in U.S. Army Co. A 394th Infantry Regiment as a Combat Infantryman during 1944-1946\, including duty in World War II. During this time\, he was awarded the EAME (Europe/Africa/Middle East) Service Medal with 2 Bronze Service Stars\, Good Conduct Medal and the World War II Victory Medal.\n\n\nPRIMARY STAGING DETAILS: 06-16-19 \nStaging Time: 3:15 PM  \nParkway Funeral Home\n1161 Highland Colony Parkway\nRidgeland\, Mississippi 39157\n\n\nRide Captain: \nRandy Oswalt\n601-506-3956\n\n\nSpecial Instructions: \nStaging: 3:15 pm\nVisitation: 4:00 – 7:00 pm\n\n\nFlags & Water:\nFlags will be provided\nLarge Bike Flags will NOT be needed.\nWater WILL NOT be provided\, please bring your own.\n\nSTAGING #2 DETAILS: 06-17-19 \nStaging Time: 12:30 PM  \nMadison United Methodist Church\n100 Post Oak Road\nMadison\, Mississippi 39110\n\n\nRide Captain: \nRandy Oswalt\n601-506-3956\n\n\nSpecial Instructions: \nFlag line: 1:00 pm\nService: 2:00 pm.\nEscort: following Service to Parkway Memorial Cemetery\, 1161 Highland Colony Parkway\, Ridgeland\, MS 39157.\n\n\nFlags & Water:\nFlags will be provided\nIf you have large bike flags\, please bring them.\nWater WILL NOT be provided\, please bring your own.\n\n\n\nSubmitted By: Keith Grantham \nPosition: Mississippi Assistant State Captain \n\nNote: You do not have to own/ride a motorcycle or be a veteran to join\, and membership is Free. The only requirement is RESPECT! To subscribe to receive mission notices\, log into the National Site and click on the Members tab at the top. Select the Subscribe to PGR Missions option.\n Print This Page
URL:https://www.patriotguard.org/mission/richard-ansley-farr-jr/
CATEGORIES:Honor Mission
END:VEVENT
END:VCALENDAR