BEGIN:VCALENDAR
VERSION:2.0
PRODID:-//Patriot Guard Riders - ECPv5.3.2.1//NONSGML v1.0//EN
CALSCALE:GREGORIAN
METHOD:PUBLISH
X-WR-CALNAME:Patriot Guard Riders
X-ORIGINAL-URL:https://www.patriotguard.org
X-WR-CALDESC:Events for Patriot Guard Riders
BEGIN:VTIMEZONE
TZID:America/New_York
BEGIN:DAYLIGHT
TZOFFSETFROM:-0500
TZOFFSETTO:-0400
TZNAME:EDT
DTSTART:20190310T070000
END:DAYLIGHT
BEGIN:STANDARD
TZOFFSETFROM:-0400
TZOFFSETTO:-0500
TZNAME:EST
DTSTART:20191103T060000
END:STANDARD
END:VTIMEZONE
BEGIN:VEVENT
DTSTART;VALUE=DATE:20190830
DTEND;VALUE=DATE:20190831
DTSTAMP:20210402T093745
CREATED:20190828T115627Z
LAST-MODIFIED:20190828T115627Z
UID:172161-1567123200-1567209599@www.patriotguard.org
SUMMARY:Richard Andrew Olin
DESCRIPTION:  \n\nHonor Mission\nRichard Andrew Olin\, Veteran\nUSN \, USNR\nMULTI-City\, Florida  08-30-19\n\n\n \n\nABOUT THE MISSION: \nThe family of BT3 Olin\, 83\, has requested the Patriot Guard Riders presence as they show their final respects and lay their loved one to rest. Richard faithfully served his country in the U.S. Navy/Reserves. Upon completion of his service\, Richard received an Honorable Discharge and during his time in service\, awarded the Good Conduct Medal. Please bring your 3 X 5 American flags and stand in honor and respect for our hero and his family.\n\n\nPRIMARY STAGING DETAILS: 08-30-19 \nStaging Time: 09:00 AM  \nForest Lawn Funeral Home\n5740 S. Pine Ave\nOcala\, Florida 34480\nhttp://tinyurl.com/yyufw5c6\n\n\nRide Captain: \nRoger “Useless” Shoemaker\nrj43shoe@embarqmail.com\n352-445-8775\n\n\nSpecial Instructions: \nThis is an Escort to FNC. Large Flag Bikes are requested.\n\n09:15 AM – Brief\n09:30 AM – KSU for FNC or as directed by the funeral director\n\n\nFlags & Water:\nFlags will not be provided\nIf you have large bike flags\, please bring them.\nWater WILL NOT be provided\, please bring your own.\n\nSTAGING #2 DETAILS: 08-30-19 \nStaging Time: 10:15 AM  \nFlorida National Cemetery\n6502 SW 102nd Ave\nBushnell\, Florida 33513\nhttp://tinyurl.com/y5l4vc88\n\n\nRide Captain: \nBrian “Can Do” Parker\nhandybmp@gmail.com\n727-251-2511\n\n\nSpecial Instructions: \n10:30 AM – Brief\n11:00 AM – Service\nFlag Line as directed by the RC\n\n\nFlags & Water:\nFlags will not be provided\nLarge Bike Flags will NOT be needed.\nWater WILL NOT be provided\, please bring your own.\n  \n\n\n\nSubmitted By: Bernie Conner \nPosition: Florida Assistant State Captain \n\nNote: You do not have to own/ride a motorcycle or be a veteran to join\, and membership is Free. The only requirement is RESPECT! To subscribe to receive mission notices\, log into the National Site and click on the Members tab at the top. Select the Subscribe to PGR Missions option.\n Print This Page
URL:https://www.patriotguard.org/mission/richard-andrew-olin/
CATEGORIES:Honor Mission
END:VEVENT
END:VCALENDAR