BEGIN:VCALENDAR
VERSION:2.0
PRODID:-//Patriot Guard Riders - ECPv5.3.2.1//NONSGML v1.0//EN
CALSCALE:GREGORIAN
METHOD:PUBLISH
X-WR-CALNAME:Patriot Guard Riders
X-ORIGINAL-URL:https://www.patriotguard.org
X-WR-CALDESC:Events for Patriot Guard Riders
BEGIN:VTIMEZONE
TZID:America/New_York
BEGIN:DAYLIGHT
TZOFFSETFROM:-0500
TZOFFSETTO:-0400
TZNAME:EDT
DTSTART:20190310T070000
END:DAYLIGHT
BEGIN:STANDARD
TZOFFSETFROM:-0400
TZOFFSETTO:-0500
TZNAME:EST
DTSTART:20191103T060000
END:STANDARD
END:VTIMEZONE
BEGIN:VEVENT
DTSTART;VALUE=DATE:20190804
DTEND;VALUE=DATE:20190806
DTSTAMP:20210402T094358
CREATED:20190803T001523Z
LAST-MODIFIED:20190804T215158Z
UID:169686-1564876800-1565049599@www.patriotguard.org
SUMMARY:Richard Allen Lenhart
DESCRIPTION:UPDATED STAGING #2 TIME\nHonor Mission\nRichard Allen Lenhart\, Retired\nUSMC – Vietnam\nWarner Robins\, Georgia – 08-04-19\n\n\nABOUT THE MISSION:\n\n\nThe family of United States Marine Corps Veteran\, LtCol Richard Allen Lenhart has asked the Patriot Guard Riders to be present for the celebration of his life and his service to our country.  It will be our honor to do so. LtCol Lenhart joined the Marines at the age of 18 and retired after serving 30 years rising from the rank of private to Lieutenant Colonel as a Certified Internal Auditor.\n\n\nPRIMARY STAGING DETAILS: 08-04-19 \nStaging Time: 3:30 pm \nMcCullough Funeral Home\n417 S Houston Lake Road\nWarner Robins\, Georgia 31088\n\n\nRide Captain: \nLee “vulcangunner” Love\nvulcangunner2@windstream.net\n(478)952-2097\n\n\nSpecial Instructions: \nFlag line from 4 PM to 6 PM\n\n\nFlags & Water:\nFlags will be provided\nLarge Bike Flags will NOT be needed.\nWater will be provided.\n\nSTAGING #2 DETAILS: 08-05-19 \nStaging Time: 12:30 pm \nMcCullough Funeral Home\n417 S Houston Lake Road\nWarner Robins\, Georgia 31088\n\n\nRide Captain: \nLee “vulcangunner” Love\nvulcangunner2@windstream.net\n(478)952-2097\n\nRussell “Truk” Curry\nrussellccurry@gmail.com\n(478)973-6641\n\n\nSpecial Instructions: \nAfter the service is completed\, we will prepare for LEO lead escort to Evergreen Cemetery\, 279 Benjamin H. Hill Drive\, Fitzgerald\, Georgia 31750 for burial with military honors.\n\n\nFlags & Water:\nFlags will be provided\nIf you have large bike flags\, please bring them.\nWater will be provided.\n\n\n\nSubmitted By: Henry L. Love \nPosition: Georgia Ride Captain \n\nNote: You do not have to own/ride a motorcycle or be a veteran to join\, and membership is Free. The only requirement is RESPECT! To subscribe to receive mission notices\, log into the National Site and click on the Members tab at the top. Select the Subscribe to PGR Missions option.\n Print This Page
URL:https://www.patriotguard.org/mission/richard-allen-lenhart/
CATEGORIES:Honor Mission
END:VEVENT
END:VCALENDAR