BEGIN:VCALENDAR
VERSION:2.0
PRODID:-//Patriot Guard Riders - ECPv5.6.0//NONSGML v1.0//EN
CALSCALE:GREGORIAN
METHOD:PUBLISH
X-WR-CALNAME:Patriot Guard Riders
X-ORIGINAL-URL:https://www.patriotguard.org
X-WR-CALDESC:Events for Patriot Guard Riders
BEGIN:VTIMEZONE
TZID:America/New_York
BEGIN:DAYLIGHT
TZOFFSETFROM:-0500
TZOFFSETTO:-0400
TZNAME:EDT
DTSTART:20160313T070000
END:DAYLIGHT
BEGIN:STANDARD
TZOFFSETFROM:-0400
TZOFFSETTO:-0500
TZNAME:EST
DTSTART:20161106T060000
END:STANDARD
END:VTIMEZONE
BEGIN:VEVENT
DTSTART;TZID=America/New_York:20160706T090000
DTEND;TZID=America/New_York:20160706T110000
DTSTAMP:20210512T212640
CREATED:20160706T130000Z
LAST-MODIFIED:20191201T144544Z
UID:410804-1467795600-1467802800@www.patriotguard.org
SUMMARY:Reynold Carnevale\, USA
DESCRIPTION:Patriots\, we have once again begin asked to stand for one that stood for us. \nReynold Carnevale served in the Pacific Theater during World War II and served with the 82nd Airborne. \nHe is survived by his wife of 68 years\, Myrtle.   \nStaging Location:\nJernigan-Warren Funeral Home\n545 Ramsey St\, Fayetteville\, NC\nhttp://bit.ly/29v089h \nStaging: 11:15 AM\n\nStand down @ 1:00 PM and prepare for escort following funeral to Lafayette Memorial Park. \nI am honored to act as RCIC for this mission\nFrank “Tinman” Schronce\n910-273-5464
URL:https://www.patriotguard.org/mission/reynold-carnevale-usa/
CATEGORIES:Archive
END:VEVENT
END:VCALENDAR