BEGIN:VCALENDAR
VERSION:2.0
PRODID:-//Patriot Guard Riders - ECPv5.3.2.1//NONSGML v1.0//EN
CALSCALE:GREGORIAN
METHOD:PUBLISH
X-WR-CALNAME:Patriot Guard Riders
X-ORIGINAL-URL:https://www.patriotguard.org
X-WR-CALDESC:Events for Patriot Guard Riders
BEGIN:VTIMEZONE
TZID:America/New_York
BEGIN:DAYLIGHT
TZOFFSETFROM:-0500
TZOFFSETTO:-0400
TZNAME:EDT
DTSTART:20190310T070000
END:DAYLIGHT
BEGIN:STANDARD
TZOFFSETFROM:-0400
TZOFFSETTO:-0500
TZNAME:EST
DTSTART:20191103T060000
END:STANDARD
END:VTIMEZONE
BEGIN:VEVENT
DTSTART;VALUE=DATE:20190701
DTEND;VALUE=DATE:20190702
DTSTAMP:20210403T194713
CREATED:20190630T164457Z
LAST-MODIFIED:20190630T164457Z
UID:166331-1561939200-1562025599@www.patriotguard.org
SUMMARY:Reynaldo Navarro
DESCRIPTION:Honor Mission\nReynaldo Navarro\, Veteran\nUSA – Vietnam\nMarana\, Arizona – 07-01-19\n\n\n\n\nABOUT THE MISSION: \nTucson native Reynaldo “Polie” Navarro was born into the Navarro family on 26 January 1945. Reynaldo heard the calling and enlisted in the United States Army in September 1967 and served proudly until his honorable discharge in September of 1980 attaining the rank of Staff Sergeant.In SSGT Navarro civilian life he chose to continue to serve this great nation we live in by working at the VA Hospital in Tucson until his retirement. SSGT Navarro passed on 21 May 2019\n\n\nPRIMARY STAGING DETAILS: 07-01-19 \nStaging Time: 09:00 am \nR & R Pizza parking\nN. Sandario Road\nMarana\, Arizona 85653\n\n\nRide Captain: \nRide Captain: Carlos\n520-975-0414\n\nFlag Captain: Bear 520-429-1158\n\n\nSpecial Instructions: \nBriefing: 9:15 AM\nKSU to AZVMC: 9:30 AM\n\n\nFlags & Water:\nFlags will be provided\nIf you have large bike flags\, please bring them.\nWater will be provided.\n\nSubmitted By: Robi Campbell \nPosition: Arizona Assistant State Captain \n\nNote: You do not have to own/ride a motorcycle or be a veteran to join\, and membership is Free. The only requirement is RESPECT! To subscribe to receive mission notices\, log into the National Site and click on the Members tab at the top. Select the Subscribe to PGR Missions option.\n Print This Page
URL:https://www.patriotguard.org/mission/reynaldo-navarro/
CATEGORIES:Honor Mission
END:VEVENT
END:VCALENDAR