BEGIN:VCALENDAR
VERSION:2.0
PRODID:-//Patriot Guard Riders - ECPv5.6.0//NONSGML v1.0//EN
CALSCALE:GREGORIAN
METHOD:PUBLISH
X-WR-CALNAME:Patriot Guard Riders
X-ORIGINAL-URL:https://www.patriotguard.org
X-WR-CALDESC:Events for Patriot Guard Riders
BEGIN:VTIMEZONE
TZID:America/New_York
BEGIN:DAYLIGHT
TZOFFSETFROM:-0500
TZOFFSETTO:-0400
TZNAME:EDT
DTSTART:20210314T070000
END:DAYLIGHT
BEGIN:STANDARD
TZOFFSETFROM:-0400
TZOFFSETTO:-0500
TZNAME:EST
DTSTART:20211107T060000
END:STANDARD
END:VTIMEZONE
BEGIN:VEVENT
DTSTART;VALUE=DATE:20210511
DTEND;VALUE=DATE:20210512
DTSTAMP:20210511T124250
CREATED:20210509T164715Z
LAST-MODIFIED:20210509T164715Z
UID:576854-1620691200-1620777599@www.patriotguard.org
SUMMARY:Rex Allen
DESCRIPTION:Honor Mission\nRex Allen\, Veteran\nUSMC\, ARNG\, LEO – WoT\nNewton\, Mississippi – 05-11-21\n\n\n\nABOUT THE MISSION: \nSgt. Allen proudly and honorably served in the Marine Corps & Army National Guard a total of 19 years. He served as an Infantryman and Amphibious Raid Instructor while in the Marine Corps 1st Bn 2nd Marine Div. He was in the 114th MP Unit\, Clinton MS and 114 Field Artillery 1st BN Arty\, Drew MS while in the National Guard. Medals and Commendations include (Marine Corps) Good Conduct Medal w/3 Stars\, Rifle Expert Badge 4 Awards\, Pistol Sharpshooter Badge\, Sea Service Deployment Ribbon w/1 Star\, Letter of Appreciation\, Certificate of Commendation 7\, Meritorious Unit Commendation. (National Guard) National Defense Service Medal 2nd Award\, Army Service Ribbon\, Armed Forces Reserve Medal\, Global War on Terrorism Service Medal\, Good Conduct Medal\, Afghanistan Campaign Medal. He served as a police officer for Pearl Police Department for eight years.\n\n\nPRIMARY STAGING DETAILS: 05-11-21 \nStaging Time: 12:15 PM\n \nMississippi Veterans Memorial Cemetery\n258 Honors Circle\nNewton\, Mississippi 39345\n\n\nRide Captain: \nRoger (Roadranger) Barrett\n601-826-5205\n\n\nSpecial Instructions: \nStaging for PGR traveling from west or south will be 11:15 a.m.\nKSU 11:30 a.m. at Love’s Travel Stop\, 6138 Lake-Norris Rd\, Lake MS 39092.\nPGR will stand a Flag Line for graveside service with Military Honors.\n\n\nFlags & Water:\nFlags will be provided\nLarge Bike Flags will NOT be needed.\nWater WILL NOT be provided\, please bring your own.\n\n\nSubmitted By: Roger Barrett \nPosition: Mississippi State Captain \n\nNote: You do not have to own/ride a motorcycle or be a veteran to join\, and membership is Free. The only requirement is RESPECT! To subscribe to receive mission notices\, log into the National Site and click on the Members tab at the top. Select the Subscribe to PGR Missions option.\n Print This Page
URL:https://www.patriotguard.org/mission/rex-allen/
CATEGORIES:Honor Mission
END:VEVENT
END:VCALENDAR