BEGIN:VCALENDAR
VERSION:2.0
PRODID:-//Patriot Guard Riders - ECPv5.6.0//NONSGML v1.0//EN
CALSCALE:GREGORIAN
METHOD:PUBLISH
X-WR-CALNAME:Patriot Guard Riders
X-ORIGINAL-URL:https://www.patriotguard.org
X-WR-CALDESC:Events for Patriot Guard Riders
BEGIN:VTIMEZONE
TZID:America/New_York
BEGIN:DAYLIGHT
TZOFFSETFROM:-0500
TZOFFSETTO:-0400
TZNAME:EDT
DTSTART:20160313T070000
END:DAYLIGHT
BEGIN:STANDARD
TZOFFSETFROM:-0400
TZOFFSETTO:-0500
TZNAME:EST
DTSTART:20161106T060000
END:STANDARD
END:VTIMEZONE
BEGIN:VEVENT
DTSTART;TZID=America/New_York:20160812T090000
DTEND;TZID=America/New_York:20160812T110000
DTSTAMP:20210512T051233
CREATED:20160812T130000Z
LAST-MODIFIED:20191201T143639Z
UID:409963-1470992400-1470999600@www.patriotguard.org
SUMMARY:Rev. Melvin B. Dews
DESCRIPTION:Patriot’s Name:      Rev. Melvin Dews\nMilitary Branch:  United States Army\nClassification:  Veteran\nLink To Obituary:  http://goo.gl/SgqHNx \nMission Ride Captain:  Mark Gravit\, putt4dou@msn.com\, (720) 422-9221\nRide Captain #2:  Brian “Postmaster” Liberty\, Labliberty@yahoo.com\, (979) 702-9097 \nMission Summary:\nThe family of Rev. Dews has asked the Patriot Guard Riders to stand a Flag Line at his Funeral Service\, accompany\nhim on his last ride\, and stand a Flag Line again at his Interment Service.\n\nPART 1:  Flag Line at Rev. Dews’ Funeral Service and procession to Dallas Fort Worth National Cemetery.\nMission Date:  Aug 12\, 2016 – Friday\nStaging Time:  10:00\nBriefing Time:  10:15\nIn Position Time Or KSU:  10:30\nService Start Time:  11:00 \nDetails Of Part 1:  After the mission briefing\, Riders will stand tall and silent on the Flag Line in honor of Rev. Dews’ Service to his Country while family and friends arrive. Prior to the Service our certificate will be presented to the family. When the Service begins\, Riders will return the flags to the support vehicle\, furl\, and stow them. Those Riders not participating in the procession will be debriefed and dismissed to head to the Cemetery.  Procession Riders will receive the safety briefing and prepare to accompany Rev. Dews and his family and friends to the Cemetery. \nName Of Staging Point:\nLedbetter Baptist Church\n4116 Leesburg St.\nDallas\, Texas 75212 \nPART 2:  Flag Line at Rev. Dews’ Interment Service at Dallas Fort Worth National Cemetery.\nMission Date:      Aug 12\, 2016 – Friday\nStaging Time:     13:30\nBriefing Time:  13:45\nIn Position Time Or KSU:  14:00\nService Start Time:  14:15 \nDetails Of Part 2:  After the mission briefing\, honor bikes (if needed) will assume their position in the appropriate staging lane and await the arrival of Rev. Dews and his family and friends.  All other Riders will move to the shelter to set the flags and await the arrival of the procession. At the conclusion of the Service\, flags will be returned to storage\, furled\, and stowed and the Riders will be debriefed and dismissed. \nName Of Staging Point:\nDallas Fort Worth National Cemetery\n2000 Mountain Creek Parkway\nDallas\, Texas 75211
URL:https://www.patriotguard.org/mission/rev-melvin-b-dews/
END:VEVENT
END:VCALENDAR