BEGIN:VCALENDAR
VERSION:2.0
PRODID:-//Patriot Guard Riders - ECPv5.3.2.1//NONSGML v1.0//EN
CALSCALE:GREGORIAN
METHOD:PUBLISH
X-WR-CALNAME:Patriot Guard Riders
X-ORIGINAL-URL:https://www.patriotguard.org
X-WR-CALDESC:Events for Patriot Guard Riders
BEGIN:VTIMEZONE
TZID:America/New_York
BEGIN:DAYLIGHT
TZOFFSETFROM:-0500
TZOFFSETTO:-0400
TZNAME:EDT
DTSTART:20190310T070000
END:DAYLIGHT
BEGIN:STANDARD
TZOFFSETFROM:-0400
TZOFFSETTO:-0500
TZNAME:EST
DTSTART:20191103T060000
END:STANDARD
END:VTIMEZONE
BEGIN:VEVENT
DTSTART;VALUE=DATE:20190823
DTEND;VALUE=DATE:20190825
DTSTAMP:20210402T102410
CREATED:20190822T000219Z
LAST-MODIFIED:20190822T000219Z
UID:171582-1566518400-1566691199@www.patriotguard.org
SUMMARY:Rev. John Burleson
DESCRIPTION:Honor Mission\nRev. John Burleson\, Veteran\nUSMC – WWII\nKnoxville\, Tennessee – 08-23-19\n\n\n\nABOUT THE MISSION: \nThe Great State of Tennessee has lost another of her heroes. The Rev. John Burleson\, 94\, passed away Saturday. Rev. Burleson served our country during WWII in the South Pacific as a Staff Sgt in the USMC. Since that time\, he has pastored many churches in East Tennessee and Alabama during his years in the ministry. His family has asked us to help pay tribute to their hero and it will be our honor to do so.\n\n\nPRIMARY STAGING DETAILS: 08-23-19 \nStaging Time: 5:30 PM\n \nClicks Funeral Home\n11915 Kingston Pike\nKnoxville\, Tennessee 37934\n\n\nRide Captain: \nAlfred Holland\n865-680-7233\n\n\nSpecial Instructions: \nVisitation/ Funeral: 6:00-7:30\nServices immediately following.\nPlease stage directly at the funeral home.\n\n\nFlags & Water:\nFlags will be provided\nLarge Bike Flags will NOT be needed.\nWater WILL NOT be provided\, please bring your own.\n\nSTAGING #2 DETAILS: 08-24-19 \nStaging Time: 11:00 AM\n \nClicks Funeral Home\n11915 Kingston Pike\nKnoxville\, Tennessee 37934\n**See Special Note**\n\n\nRide Captain: \nAlfred Holland\nCell: 865-680-7233\n\n\nSpecial Instructions: \n**IMPORTANT NOTE. The family has requested a SIMPLE escort so their loved one is not making this last trip alone.\nOur plan is to do an escort with only 4 bikes. MUST attend RC Briefing.\nBob Adcock will be one of the bikes\, since this is his father-In-law we are honoring.\nI need 3 other volunteers with large flags\, preferably one of them a USMC flag.\nPlease private message Larry Hale if you are interested in this part of the mission. He is coordinating it.\n**FOR THE 3 HELPING WITH THE ESCORT: At the cemetery we will not stop\, in keeping with the family’s wishes for a small ceremony (except for Bob\, of course)\, but on reaching the gate\, we’ll ride on past it and your mission will be completed.\n\n\nFlags & Water:\nFlags will not be provided\nIf you have large bike flags\, please bring them.\nWater WILL NOT be provided\, please bring your own.\n\n\n\nSubmitted By: Thonda Farmer \nPosition: Tennessee Assistant State Captain \n\nNote: You do not have to own/ride a motorcycle or be a veteran to join\, and membership is Free. The only requirement is RESPECT! To subscribe to receive mission notices\, log into the National Site and click on the Members tab at the top. Select the Subscribe to PGR Missions option.\n Print This Page
URL:https://www.patriotguard.org/mission/rev-john-burleson/
CATEGORIES:Honor Mission
END:VEVENT
END:VCALENDAR