BEGIN:VCALENDAR
VERSION:2.0
PRODID:-//Patriot Guard Riders - ECPv5.6.0//NONSGML v1.0//EN
CALSCALE:GREGORIAN
METHOD:PUBLISH
X-WR-CALNAME:Patriot Guard Riders
X-ORIGINAL-URL:https://www.patriotguard.org
X-WR-CALDESC:Events for Patriot Guard Riders
BEGIN:VTIMEZONE
TZID:America/New_York
BEGIN:DAYLIGHT
TZOFFSETFROM:-0500
TZOFFSETTO:-0400
TZNAME:EDT
DTSTART:20160313T070000
END:DAYLIGHT
BEGIN:STANDARD
TZOFFSETFROM:-0400
TZOFFSETTO:-0500
TZNAME:EST
DTSTART:20161106T060000
END:STANDARD
END:VTIMEZONE
BEGIN:VEVENT
DTSTART;TZID=America/New_York:20160617T090000
DTEND;TZID=America/New_York:20160617T110000
DTSTAMP:20210513T133333
CREATED:20160617T130000Z
LAST-MODIFIED:20191201T145030Z
UID:411233-1466154000-1466161200@www.patriotguard.org
SUMMARY:Rev. Hubert C. Clinard\, 91\, USA\, WWII / Thomasville
DESCRIPTION:HUBERT CONARD CLINARD\, 91\nWWII US ARMY VETERAN\nTHOMASVILLE\, NC\, 27360\n17 JUNE 2016                                                                  \n\n\nIt is with sadness that I announce the passing of another “greatest Generation”\n\nThe family of Reverend Hubert C. Clinard\, US Army\, has graciously invited the Patriot Guard Riders to escort Mr. Clinard and his family from J C Green Funeral Home in Thomasville\, NC to Hills Chapel United Methodist Church\, in Stanley\, NC. Mr. Clinard served in the US Army for 2 ½ years during WWII. He was assigned to the B Battery of the 540th field Artillery Battalion and also served in the Pacific Theater Campaign earning him the Asiatic-pacific Campaign Medal. \nPlease join us in standing for Mr. Clinard as he wants stood for us and our great nation. \nPart 1 Mission Details\nStaging: 1:15 PM \nLocation: J C Green Funeral Home\, 122 W. Main St\, Thomasville NC\, 27360\nBriefing: 1:30 PM\nMap to Location: http://tinyurl.com/oxzboxf\n\nEscort Departure is at 2 pm sharp: for safety reasons we will not be fly 3’x5’ flags due to the interstate Highway speed. The escort is about 90 miles\, a 1hr and 45 minute ride to the church in Stanley. We will not establish a flag line in Thomasville\, but will at the church in Stanley. Somebody from the Piedmont will be waiting for our arrival.  \nPlease read and remind yourself that to bring plenty of water and snacks. It is to be in the high 90% so please drink plenty of fluids. Please make sure that anyone that comes to the JC Funeral Home has a full tank of fuel.  \nNOTE: NO 3’x5” FLAGS ON THE HIGHWAY \nDestination and location of the church in Stanley\, NC is Hills Chapel United Methodist Church\, 988 S. NC 16 Business\, Stanley\, NC 28164.\nMap to Location: https://goo.gl/maps/NR6rTwfsfGn\n\nPart 2 Mission Details\nStaging: 1:30 PM\nBriefing: 1:45 PM\nLocation: Hills Chapel United Methodist Church\, 988 S. NC 16 Business\, Stanley\, North Carolina 28164\nMap to Location: https://goo.gl/maps/NR6rTwfsfGn \nAfter the briefing we will stand a flag line for arrival of visitors  and guests. Once the service begins at 3:00\, we will stand down and  prepare for the grave side service with full military honors in the  church cemetery directly across the street. \nI will be your POC until a RC steps up. \nThanks to all of you\, for all you do for our veterans\, their families\, and the PGR! \nI am greatly honored to be your RCIC for this Mission \nWilliam “Bear” MacDonald\nRide Captain\n336-695-6918 \nNOTE: If any RCIT want to assist me in this escort you are more than welcome pleases feel free to call me.
URL:https://www.patriotguard.org/mission/rev-hubert-c-clinard-91-usa-wwii-thomasville/
CATEGORIES:Archive
END:VEVENT
END:VCALENDAR