BEGIN:VCALENDAR
VERSION:2.0
PRODID:-//Patriot Guard Riders - ECPv5.3.2.1//NONSGML v1.0//EN
CALSCALE:GREGORIAN
METHOD:PUBLISH
X-WR-CALNAME:Patriot Guard Riders
X-ORIGINAL-URL:https://www.patriotguard.org
X-WR-CALDESC:Events for Patriot Guard Riders
BEGIN:VTIMEZONE
TZID:America/New_York
BEGIN:DAYLIGHT
TZOFFSETFROM:-0500
TZOFFSETTO:-0400
TZNAME:EDT
DTSTART:20190310T070000
END:DAYLIGHT
BEGIN:STANDARD
TZOFFSETFROM:-0400
TZOFFSETTO:-0500
TZNAME:EST
DTSTART:20191103T060000
END:STANDARD
END:VTIMEZONE
BEGIN:VEVENT
DTSTART;VALUE=DATE:20190911
DTEND;VALUE=DATE:20190912
DTSTAMP:20210401T075413
CREATED:20190829T135337Z
LAST-MODIFIED:20190829T135948Z
UID:172265-1568160000-1568246399@www.patriotguard.org
SUMMARY:Remembering those who sacrificed for our country
DESCRIPTION:HOTH Mission\nRemembering those who sacrificed for our country\nVeterans\, PGR\, First Responders\nUSA\, USMC\, USN\, USAF\, USCG – WWII\, Korea\, Vietnam\, GW/ODS\, 9/11\nTampa\, Florida – 09-11-19\n\n\n \n\nABOUT THE MISSION: \nMission BBQ has invited the Patriot Guard Riders to their location in Tampa to stand a flag line while they are offering all veterans and first responders in the local area a free lunch. This is to show their appreciation of all first responders who gave the ultimate sacrifice on 9/11.\nPlease bring your 3×5 American Flags and stand a flag line for these heroes as they enter Mission BBQ for lunch. Taps will be played at noon.\n\n\nPRIMARY STAGING DETAILS: 09-11-19 \nStaging Time: 11:00 AM\n \nMission BBQ\n5602 W Waters Ave\nTampa\, Florida 33634\n\n\nRide Captain: \nRon Whitmore\njci25946@aol.com\n813-244-8182\n\n\nSpecial Instructions: \nStage: 11:00 AM\nBrief:   11:15 AM\nFlag Line as determined by R/C\n\n\nFlags & Water:\nFlags will not be provided.\nLarge Bike Flags will NOT be needed.\nWater WILL NOT be provided\, please bring your own.\n\n\nSubmitted By: Henry Hyde \nPosition: Florida Assistant State Captain \n\nNote: You do not have to own/ride a motorcycle or be a veteran to join\, and membership is Free. The only requirement is RESPECT! To subscribe to receive mission notices\, log into the National Site and click on the Members tab at the top. Select the Subscribe to PGR Missions option.\n Print This Page
URL:https://www.patriotguard.org/mission/remembering-those-who-sacrificed-for-our-country/
CATEGORIES:HOTH Mission
END:VEVENT
END:VCALENDAR