BEGIN:VCALENDAR
VERSION:2.0
PRODID:-//Patriot Guard Riders - ECPv5.3.2.1//NONSGML v1.0//EN
CALSCALE:GREGORIAN
METHOD:PUBLISH
X-WR-CALNAME:Patriot Guard Riders
X-ORIGINAL-URL:https://www.patriotguard.org
X-WR-CALDESC:Events for Patriot Guard Riders
BEGIN:VTIMEZONE
TZID:America/New_York
BEGIN:DAYLIGHT
TZOFFSETFROM:-0500
TZOFFSETTO:-0400
TZNAME:EDT
DTSTART:20190310T070000
END:DAYLIGHT
BEGIN:STANDARD
TZOFFSETFROM:-0400
TZOFFSETTO:-0500
TZNAME:EST
DTSTART:20191103T060000
END:STANDARD
END:VTIMEZONE
BEGIN:VEVENT
DTSTART;VALUE=DATE:20190608
DTEND;VALUE=DATE:20190609
DTSTAMP:20210405T132024
CREATED:20190604T152115Z
LAST-MODIFIED:20190604T152115Z
UID:163607-1559952000-1560038399@www.patriotguard.org
SUMMARY:Raymond "Mick" Curtis Wilson
DESCRIPTION:Honor Mission\nRaymond “Mick” Curtis Wilson\, Retired\nUSA – Vietnam\nRadcliff\, Kentucky – 06-08-19\n\n\n\nABOUT THE MISSION: \nKentucky has lost another brother\, Raymond “Mick” Curtis Wilson\, SFC\, US Army\, Retired. We have been asked to stand in his honor at the the Nelson-Edelen-Bennett Funeral Home and the N. Hardin Memorial Gardens. He was a Vietnam Veteran. Please stand for our brother.\n**ALL TIMES: Eastern Standard Time**\n\n\nPRIMARY STAGING DETAILS: 06-08-19 \nStaging Time: 08:30 AM\n \nNelson-Edelen-Bennett Funeral Home\n2072 South Dixie Boulevard\nRadcliff\, Kentucky 40160\n\n\nRide Captain: \nDon Gilmore\ndgilmore@bbtel.com\n\nAsst: Edwin (Ed) Hartsell\, edwinhartsell@hotmail.com\nJames (Danny) Johnson\, roughriverdan@yahoo.com\n\n\nSpecial Instructions: \n8:30 Stage and Stake Flags\n9:00 Visitation\n10:45 Render Final Salute\n11:00 Service Begins\nEscort to: N. Hardin Memorial Gardens\, 1100 S. Logsdon Pkwy\, Radcliff\, KY 40160.\nWater will be provided. Please arrive hydrated.\nPlease be prepared for the Cool and wet weather conditions and Ride Safely.\n\n\nFlags & Water:\nFlags will be provided\nIf you have large bike flags\, please bring them.\nWater will be provided.\n\n\n\nSubmitted By: James Johnson \nPosition: Kentucky Ride Captain \n\nNote: You do not have to own/ride a motorcycle or be a veteran to join\, and membership is Free. The only requirement is RESPECT! To subscribe to receive mission notices\, log into the National Site and click on the Members tab at the top. Select the Subscribe to PGR Missions option.\n Print This Page
URL:https://www.patriotguard.org/mission/raymond-mick-curtis-wilson/
CATEGORIES:Honor Mission
END:VEVENT
END:VCALENDAR