BEGIN:VCALENDAR
VERSION:2.0
PRODID:-//Patriot Guard Riders - ECPv5.3.2.1//NONSGML v1.0//EN
CALSCALE:GREGORIAN
METHOD:PUBLISH
X-WR-CALNAME:Patriot Guard Riders
X-ORIGINAL-URL:https://www.patriotguard.org
X-WR-CALDESC:Events for Patriot Guard Riders
BEGIN:VTIMEZONE
TZID:America/New_York
BEGIN:DAYLIGHT
TZOFFSETFROM:-0500
TZOFFSETTO:-0400
TZNAME:EDT
DTSTART:20190310T070000
END:DAYLIGHT
BEGIN:STANDARD
TZOFFSETFROM:-0400
TZOFFSETTO:-0500
TZNAME:EST
DTSTART:20191103T060000
END:STANDARD
END:VTIMEZONE
BEGIN:VEVENT
DTSTART;VALUE=DATE:20190305
DTEND;VALUE=DATE:20190306
DTSTAMP:20210401T191748
CREATED:20190302T230636Z
LAST-MODIFIED:20190302T230944Z
UID:152091-1551744000-1551830399@www.patriotguard.org
SUMMARY:Raymond Lewis Griffith
DESCRIPTION:Honor Mission\n\nRaymond Lewis Griffith \, Veteran\nUSMC – \, WWII\nPhoenix\, Arizona – 03-05-19\n\n\n\n\nABOUT THE MISSION: \nPFC Raymond Lewis Griffith is a United States Marine Corp Veteran. Ray enlisted in the United States Marine Corps on December 9\, 1942. Ray served 3 years\, he was a Field Telephone Man responsible for communications. Ray was deployed in the Pacific serving on Iwo Jima and in the Marshall Islands. Ray was honorably discharged on October 13\, 1945 at Marine Barracks\, Washington\, D.C. While stationed in Washington Ray did White House Guard Duty. Ray received the WWII Victory Medal\, Occupation Medal – Japan\, Good Conduct Medal.\n\n\nPRIMARY STAGING DETAILS: 03-05-19 \nStaging Time: 11:00  \nShadow Mountain Mortuary\n2350 E. Greenway Rd.\nPhoenix\, Arizona 85022\n\n\nRide Captain: \nRide Captain: David Murphy 480-406-4049\nazpgrmurf@gmail.com\nDave Abbott\ndlabbott99@hotmail.com\n605-661-6233\n\n\nSpecial Instructions: \n11:15 AM: Road Guard Briefing\n11:30 AM: Circle of Honor\n11:40 AM: Safety Briefing\n11:50 AM:\nKSU to National Memorial Cemetery\n12:30 PM: Military Honors\n\nFlags & Water:\nFlags will not be provided\nIf you have large bike flags\, please bring them.\nWater WILL NOT be provided\, please bring your own.\n\nSTAGING #2 DETAILS: 03-05-19 \nStaging Time: 11:45  \nNational Memorial Cemetery\, Visitor’s Center\n23029 Cave Creek Rd.\nPhoenix\, Arizona 85024\n\n\nRide Captain: \nRide Captain: David Murphy 480-406-4049\nazpgrmurf@gmail.com\n\nDave Abbott\ndlabbott99@hotmail.com\n605-661-6233\n\n\nSpecial Instructions: \n11:45AM: Meet Flag Captain at Visitors Center\n12:15PM: Proceed to designated shelter and await arrival of Hero\n12:30PM: Military Honors\n\nFlags & Water:\nFlags will be provided\nLarge Bike Flags will NOT be needed.\nWater will be provided.\n\n\n\n\nSubmitted By: David Murphy \nPosition: Arizona Assistant State Captain \n\nNote: You do not have to own/ride a motorcycle or be a veteran to join\, and membership is Free. The only requirement is RESPECT! To subscribe to receive mission notices\, log into the National Site and click on the Members tab at the top. Select the Subscribe to PGR Missions option.\n Print This Page
URL:https://www.patriotguard.org/mission/raymond-lewis-griffith/
CATEGORIES:Honor Mission
END:VEVENT
END:VCALENDAR