BEGIN:VCALENDAR
VERSION:2.0
PRODID:-//Patriot Guard Riders - ECPv5.3.2.1//NONSGML v1.0//EN
CALSCALE:GREGORIAN
METHOD:PUBLISH
X-WR-CALNAME:Patriot Guard Riders
X-ORIGINAL-URL:https://www.patriotguard.org
X-WR-CALDESC:Events for Patriot Guard Riders
BEGIN:VTIMEZONE
TZID:America/New_York
BEGIN:DAYLIGHT
TZOFFSETFROM:-0500
TZOFFSETTO:-0400
TZNAME:EDT
DTSTART:20190310T070000
END:DAYLIGHT
BEGIN:STANDARD
TZOFFSETFROM:-0400
TZOFFSETTO:-0500
TZNAME:EST
DTSTART:20191103T060000
END:STANDARD
END:VTIMEZONE
BEGIN:VEVENT
DTSTART;VALUE=DATE:20190503
DTEND;VALUE=DATE:20190504
DTSTAMP:20210403T004031
CREATED:20190429T023316Z
LAST-MODIFIED:20190429T023316Z
UID:158729-1556841600-1556927999@www.patriotguard.org
SUMMARY:Raymond Lee Bartlett
DESCRIPTION:Honor Mission\nRaymond Lee Bartlett\, Retired\nUSA – Vietnam\nRedding\, California – 05-03-19\n\n\n\nABOUT THE MISSION: \nMaster Sgt Raymond Lee Bartlett served honorably in the United States Army from 1961 to 1981. He was awarded the Bronze Star Army Commendation Medal\, Good Conduct Medal with 6 Stars\, National Defense Medal\, Korea Occupation Medal\, Vietnam Campaign Medal and Vietnam Service Medal.\n\n\nPRIMARY STAGING DETAILS: 05-03-19 \nStaging Time: 12:00 PM\n \nMcDonalds Chapel\n1275 Continental St\nRedding\, California 96001\n\n\nRide Captain: \nRobert V. Prosser\n108365 Hufford Ranch Road\nWhitmore\, CA 96096\n530 472-3350\nbvprosser@yahoo.com\n\n\nSpecial Instructions: \n\n\nFlags & Water:\nFlags will not be provided\nIf you have large bike flags\, please bring them.\nWater WILL NOT be provided\, please bring your own.\n\n\n\nSubmitted By: Robert Prosser \nPosition: California Assistant State Captain \n\nNote: You do not have to own/ride a motorcycle or be a veteran to join\, and membership is Free. The only requirement is RESPECT! To subscribe to receive mission notices\, log into the National Site and click on the Members tab at the top. Select the Subscribe to PGR Missions option.\n Print This Page
URL:https://www.patriotguard.org/mission/raymond-lee-bartlett/
CATEGORIES:Honor Mission
END:VEVENT
END:VCALENDAR