BEGIN:VCALENDAR
VERSION:2.0
PRODID:-//Patriot Guard Riders - ECPv5.3.2.1//NONSGML v1.0//EN
CALSCALE:GREGORIAN
METHOD:PUBLISH
X-WR-CALNAME:Patriot Guard Riders
X-ORIGINAL-URL:https://www.patriotguard.org
X-WR-CALDESC:Events for Patriot Guard Riders
BEGIN:VTIMEZONE
TZID:America/New_York
BEGIN:DAYLIGHT
TZOFFSETFROM:-0500
TZOFFSETTO:-0400
TZNAME:EDT
DTSTART:20190310T070000
END:DAYLIGHT
BEGIN:STANDARD
TZOFFSETFROM:-0400
TZOFFSETTO:-0500
TZNAME:EST
DTSTART:20191103T060000
END:STANDARD
END:VTIMEZONE
BEGIN:VEVENT
DTSTART;VALUE=DATE:20190801
DTEND;VALUE=DATE:20190802
DTSTAMP:20210402T191355
CREATED:20190731T232541Z
LAST-MODIFIED:20190731T232541Z
UID:169385-1564617600-1564703999@www.patriotguard.org
SUMMARY:Raymond Knagge
DESCRIPTION:Honor Mission\nRaymond Knagge\, Retired\nUSA – GW/ODS\nMarana\, Arizona – 08-01-19\n\n\n\nABOUT THE MISSION: \nRaymond Knagge was born in Tucson\, Arizona on 3 October 1967. In January of 1986 Raymond heard the calling and joined the United States Army to serve this great nation we live in and served until his honorable discharge in 2006 attaining the rank of MSGT. MSGT Knagge received several medals and awards\, some of them are as follows: Meritorious Service Medal (4)\, Army Commendation (4)\, Army Achievement Medal\, Joint Meritorious Unit Award (2)\, Meritorious Unit Commendation\, Army Good Conduct Medal (6)\, National Defense Service Medal (2)\, Armed Forces Expeditionary Medal (2)\, Humanitarian Service Medal (3)\, Parachutist Badge\, Legion of Merit Award\, Army Service Ribbon\, NCO Professional Development Ribbon (3)\, Military Outstanding Volunteer Service Medal\, Driver/Mechanic Badge\, Global War on Terrorism Service Medal. MSGT Knagges civilian career led him to contracting with the United State Army and also working as a civilian in the United States Air Force. MSGT Knagge passed on 20 July 2019 leaving a legacy of his wife of 20 years\, five children\, mother\, family\, and many close friends. MSGT Knagge will be remembered for his huge influence on the younger generation.\n\n\nPRIMARY STAGING DETAILS: 08-01-19 \nStaging Time: 10:00 AM\n \nR &R Pizza Parking lot\n13905 N. Sandario Road\nMarana\, Arizona 85653\n\n\nRide Captain: \nStacker\n520-400-0895\n\nFlag Captain: Big G 520-403-4167\n\n\nSpecial Instructions: \n\n\nFlags & Water:\nFlags will be provided\nIf you have large bike flags\, please bring them.\nWater will be provided.\n\n\n\nSubmitted By: Robi Campbell \nPosition: Arizona Assistant State Captain \n\nNote: You do not have to own/ride a motorcycle or be a veteran to join\, and membership is Free. The only requirement is RESPECT! To subscribe to receive mission notices\, log into the National Site and click on the Members tab at the top. Select the Subscribe to PGR Missions option.\n Print This Page
URL:https://www.patriotguard.org/mission/raymond-knagge/
CATEGORIES:Honor Mission
END:VEVENT
END:VCALENDAR