BEGIN:VCALENDAR
VERSION:2.0
PRODID:-//Patriot Guard Riders - ECPv5.6.0//NONSGML v1.0//EN
CALSCALE:GREGORIAN
METHOD:PUBLISH
X-WR-CALNAME:Patriot Guard Riders
X-ORIGINAL-URL:https://www.patriotguard.org
X-WR-CALDESC:Events for Patriot Guard Riders
BEGIN:VTIMEZONE
TZID:America/New_York
BEGIN:DAYLIGHT
TZOFFSETFROM:-0500
TZOFFSETTO:-0400
TZNAME:EDT
DTSTART:20160313T070000
END:DAYLIGHT
BEGIN:STANDARD
TZOFFSETFROM:-0400
TZOFFSETTO:-0500
TZNAME:EST
DTSTART:20161106T060000
END:STANDARD
END:VTIMEZONE
BEGIN:VEVENT
DTSTART;TZID=America/New_York:20160612T090000
DTEND;TZID=America/New_York:20160612T110000
DTSTAMP:20210513T183628
CREATED:20160612T130000Z
LAST-MODIFIED:20191201T145208Z
UID:411382-1465722000-1465729200@www.patriotguard.org
SUMMARY:Raymond Jarvis\, 83
DESCRIPTION:The Family of USAF Veteran Raymond Jarvis (83) has requested the Patriot Guard for the Final Mission of their Loved One. \nUnder the direction of:\nMoore’s Funeral Home\n105 Clark St.\nPotosi\, Mo. 63664 \nSunday\, June 12th\, 2016 \nVisitation: 12 PM (1200 hrs) \nService:      1PM (1300 hrs) \nWe will meet at Parkway gas station with KSU at 11:15 AM SHARP to travel to funeral home to establish flagline at Noon. \nHonor Escort immediately following service to Hopewell Cemetery for interment with Full Military Honors. \nRide Captain:\nJohn (12 Pack) Wolk RC\nsaw@gobrb.com \nSupport:\nBill (Enforcer) Barker \nForecast: 90* (Hot) with slight chance of rain. Please Hydrate and travel accordingly. \nRespectfully submitted:\nDave “Rebel” Beck RC
URL:https://www.patriotguard.org/mission/raymond-jarvis-83/
CATEGORIES:Archive
END:VEVENT
END:VCALENDAR