BEGIN:VCALENDAR
VERSION:2.0
PRODID:-//Patriot Guard Riders - ECPv5.3.2.1//NONSGML v1.0//EN
CALSCALE:GREGORIAN
METHOD:PUBLISH
X-WR-CALNAME:Patriot Guard Riders
X-ORIGINAL-URL:https://www.patriotguard.org
X-WR-CALDESC:Events for Patriot Guard Riders
BEGIN:VTIMEZONE
TZID:America/New_York
BEGIN:DAYLIGHT
TZOFFSETFROM:-0500
TZOFFSETTO:-0400
TZNAME:EDT
DTSTART:20170312T070000
END:DAYLIGHT
BEGIN:STANDARD
TZOFFSETFROM:-0400
TZOFFSETTO:-0500
TZNAME:EST
DTSTART:20171105T060000
END:STANDARD
END:VTIMEZONE
BEGIN:VEVENT
DTSTART;TZID=America/New_York:20170418T094500
DTEND;TZID=America/New_York:20170418T114500
DTSTAMP:20210406T034227
CREATED:20170418T134500Z
LAST-MODIFIED:20191201T030812Z
UID:312637-1492508700-1492515900@www.patriotguard.org
SUMMARY:Raymond J. Pompieri\, Veteran\, USA - Vietnam
DESCRIPTION:Raymond J. Pompieri\, Veteran \nUSA  – Vietnam \nBlack Forest\, Colorado – 18 Apr 2017\n\n\n[HR][/HR] \n\n\nABOUT THE MISSION: \nThe Patriot Guard Riders have been invited to stand in honor at the  Funeral Service for Raymond James Pompieri at Our Lady of the Pines  Catholic Church\, 11020 Teachout Road\, Black Forest\, CO on Tuesday April  18\, 2017\, at 11:00 AM. \nMr. Pompieri was born on July 14\, 1946 and died on April 1\, 2017 at the  age of 70. He was a Veteran of the US Army who served from 1966 until  1970. He was a Vietnam Veteran\, as well. \n9:45 AM – Stage in the Church Parking lot at 11020 Teachout Road\, Black Forest\n10:00 AM – Mission Briefing\n10:15 AM – Form Flag Line at the Entrance to the Church (Southeast Side of the Church) \nPRIMARY STAGING DETAILS:  18 Apr 2017 \n\n\n\nPrimary Staging Time:  9:45 A.M.\n\nOur Lady of the Pines Catholic Church\n11020 Teachout Road\nBlack Forest\, Colorado \nParking Lot (Southeast Side)\n\n\n\n\nRide Captain:\n\nTo Be Determined\n\n \n\nSpecial Instructions:\n\n\n\n\n \n\nFlags & Water:\n\nFlags Will Be Provided\n\nLarge Bike Flags will NOT be needed.\n\nWater will be provided.\n\n\nSubmitted By:  Jim Herstein\nPosition:  State HOTH Coordinator \n[HR][/HR]\nNote:\nYou do not have to own/ride a motorcycle or be a Veteran to join and membership is Free. The only requirement is RESPECT! To join\, simply go to www.PatriotGuard.org and click on Register. Membership is Free. \nTo subscribe to receive mission notices\, log into the National Site and  click on the Mission Tab at the top. Select Upcoming Missions by State.  Scroll to the state(s) you would like to receive notices for and click  on the green check mark. Detailed instructions are also located in the  FAQs on the site by clicking on the Quick Links Tab and selecting FAQs.
URL:https://www.patriotguard.org/mission/raymond-j-pompieri-veteran-usa-vietnam/
END:VEVENT
END:VCALENDAR