BEGIN:VCALENDAR
VERSION:2.0
PRODID:-//Patriot Guard Riders - ECPv5.3.2.1//NONSGML v1.0//EN
CALSCALE:GREGORIAN
METHOD:PUBLISH
X-WR-CALNAME:Patriot Guard Riders
X-ORIGINAL-URL:https://www.patriotguard.org
X-WR-CALDESC:Events for Patriot Guard Riders
BEGIN:VTIMEZONE
TZID:America/New_York
BEGIN:DAYLIGHT
TZOFFSETFROM:-0500
TZOFFSETTO:-0400
TZNAME:EDT
DTSTART:20190310T070000
END:DAYLIGHT
BEGIN:STANDARD
TZOFFSETFROM:-0400
TZOFFSETTO:-0500
TZNAME:EST
DTSTART:20191103T060000
END:STANDARD
END:VTIMEZONE
BEGIN:VEVENT
DTSTART;VALUE=DATE:20190118
DTEND;VALUE=DATE:20190119
DTSTAMP:20210403T082509
CREATED:20190116T121807Z
LAST-MODIFIED:20190116T121807Z
UID:147503-1547769600-1547855999@www.patriotguard.org
SUMMARY:Raymond Isner
DESCRIPTION:Honor Mission\nRaymond Isner\, Veteran\nUSA – Vietnam\nSierra Vista\, Arizona – 01-18-19\n\n\n\n\nABOUT THE MISSION: \nThe PGR and riding community has been requested to attend military honors for Raymond Isner.  Ray proudly served our country in the US Army for 3 years and was a Vietnam veteran.\n\n\nPRIMARY STAGING DETAILS: 01-18-19 \nStaging Time: 12:00 p.m. \nEntrance to So. AZ Veterans Memorial Cemetery\n1300 Buffalo Soldier Trail\nSierra Vista\, Arizona 85635\n\n\nRide Captain: \nBecky Baze\n520-508-7127\nbekhal1060@yahoo.com\n\n\nSpecial Instructions: \nBriefing:  12:20 PM\nKSU: 12:30 PM\nMilitary honors:  1:00 PM\n\nLine up on the frontage road at the entrance to the cemetery.\n\n\nFlags & Water:\nFlags will be provided\nIf you have large bike flags\, please bring them.\nWater will be provided.\n\n\n\nSubmitted By: Becky Baze \nPosition: Arizona Ride Captain \n\nNote: You do not have to own/ride a motorcycle or be a veteran to join\, and membership is Free. The only requirement is RESPECT! To subscribe to receive mission notices\, log into the National Site and click on the Members tab at the top. Select the Subscribe to PGR Missions option.\n Print This Page
URL:https://www.patriotguard.org/mission/raymond-isner/
CATEGORIES:Honor Mission
END:VEVENT
END:VCALENDAR