BEGIN:VCALENDAR
VERSION:2.0
PRODID:-//Patriot Guard Riders - ECPv5.3.2.1//NONSGML v1.0//EN
CALSCALE:GREGORIAN
METHOD:PUBLISH
X-WR-CALNAME:Patriot Guard Riders
X-ORIGINAL-URL:https://www.patriotguard.org
X-WR-CALDESC:Events for Patriot Guard Riders
BEGIN:VTIMEZONE
TZID:America/New_York
BEGIN:DAYLIGHT
TZOFFSETFROM:-0500
TZOFFSETTO:-0400
TZNAME:EDT
DTSTART:20190310T070000
END:DAYLIGHT
BEGIN:STANDARD
TZOFFSETFROM:-0400
TZOFFSETTO:-0500
TZNAME:EST
DTSTART:20191103T060000
END:STANDARD
END:VTIMEZONE
BEGIN:VEVENT
DTSTART;VALUE=DATE:20190911
DTEND;VALUE=DATE:20190912
DTSTAMP:20210401T020313
CREATED:20190909T082805Z
LAST-MODIFIED:20190909T082805Z
UID:173232-1568160000-1568246399@www.patriotguard.org
SUMMARY:Raymond H. Blanchette
DESCRIPTION:  \n\nHonor Mission\nRaymond H. Blanchette\, Veteran\nUSA \, USAR\nMULTI-CITY\, Florida  09-11-19\n\n\n\nABOUT THE MISSION: \nThe family of SP3 Blanchette\, 82\, has requested the Patriot Guard Riders presence as they show their final respects and lay their loved one to rest. Raymond faithfully served his country in the U.S. Army/Reserves and performed duties as a Vehicle Mechanic. Upon completion of his service\, Raymond received an Honorable Discharge and during his time in service\, awarded the National Defense Service Medal and the Good Conduct Medal. Please bring your 3 X 5 American flags and stand in honor and respect for our hero and his family.\n\n\nPRIMARY STAGING DETAILS: 09-11-19 \nStaging Time: 10:15 AM \nBecker Funeral Home\n806 W Minneola Ave\nClermont\, Florida 34711\nhttp://tinyurl.com/y3zktl6o\n\n\nRide Captain: \nBernie “Dutchman” Conner\nbc17004@aol.com\n407-415-6162\n\n\nSpecial Instructions: \nFollowing the service there will be an escort to FNC\, Large Flag Bikes are requested.\n\n10:30 AM – Brief\n11:00 AM – Viewing\n12:00 PM – Service\nFlag Line as directed by the RC.\nKSU for FNC as directed by the funeral director.\n\n\nFlags & Water:\n\nFlags will not be provided\nIf you have large bike flags\, please bring them.\nWater WILL NOT be provided\, please bring your own.\n\nSTAGING #2 DETAILS: 09-11-19 \nStaging Time: 1:15 PM\n \nFlorida National Cemetery\n6502 SW 102nd Ave\nBushnell\, Florida 33513\nhttp://tinyurl.com/y5l4vc88\n\n\nRide Captain: \nKen “Jolly Green” Arena\nken@kenarenatax.com\n813-731-3728\n\n\nSpecial Instructions: \n1:30 PM – Brief\n2:00 PM – Service\nFlag Line as directed by the RC\n\n\nFlags & Water:\n\nFlags will not be provided\nLarge Bike Flags will NOT be needed.\nWater WILL NOT be provided\, please bring your own.\n\n\n\n\nSubmitted By: Bernie Conner \nPosition: Florida Assistant State Captain \n\nNote: You do not have to own/ride a motorcycle or be a veteran to join\, and membership is Free. The only requirement is RESPECT! To subscribe to receive mission notices\, log into the National Site and click on the Members tab at the top. Select the Subscribe to PGR Missions option.\n Print This Page
URL:https://www.patriotguard.org/mission/raymond-h-blanchette/
CATEGORIES:Honor Mission
END:VEVENT
END:VCALENDAR