BEGIN:VCALENDAR
VERSION:2.0
PRODID:-//Patriot Guard Riders - ECPv5.3.2.1//NONSGML v1.0//EN
CALSCALE:GREGORIAN
METHOD:PUBLISH
X-WR-CALNAME:Patriot Guard Riders
X-ORIGINAL-URL:https://www.patriotguard.org
X-WR-CALDESC:Events for Patriot Guard Riders
BEGIN:VTIMEZONE
TZID:America/New_York
BEGIN:DAYLIGHT
TZOFFSETFROM:-0500
TZOFFSETTO:-0400
TZNAME:EDT
DTSTART:20190310T070000
END:DAYLIGHT
BEGIN:STANDARD
TZOFFSETFROM:-0400
TZOFFSETTO:-0500
TZNAME:EST
DTSTART:20191103T060000
END:STANDARD
END:VTIMEZONE
BEGIN:VEVENT
DTSTART;VALUE=DATE:20190802
DTEND;VALUE=DATE:20190803
DTSTAMP:20210402T141207
CREATED:20190731T151516Z
LAST-MODIFIED:20190731T151516Z
UID:169327-1564704000-1564790399@www.patriotguard.org
SUMMARY:Raymond Edgar Sanner
DESCRIPTION:Honor Mission\nRaymond Edgar Sanner\, Veteran\nUSA – Vietnam\nMoberly\, Missouri – 08-02-19\n\n\n\n\nABOUT THE MISSION: \nThe family of Raymond Edgar Sanner\, 76 of Higbee\, has requested the Patriot Guard Riders to escort their loved one to his final rest at the Missouri Veterans Cemetery in Jacksonville.  Hero Sanner served in the U.S. Army from Nov. 1967 to Nov. 1969 in Vietnam\, receiving the Bronze Star and an Honorable Discharge.\n\n\nPRIMARY STAGING DETAILS: 08-02-19 \nStaging Time: 1:30 PM  \nCater Funeral Home\n1520 E. Rollins\nMoberly\, Missouri 65270\n\n\nRide Captain: \nChris Raymer\nbigpig866@gmail.com\n(660)346-1280\n\n\nSpecial Instructions: \nPlease stage at 1:30 PM for ride brief and escort to MO Veterans Cemetery in Jacksonville for a 2:30 time slot with military honors. Weather: 30% chance of rain and a high near 80*.  Hydrate more than you think necessary.  Cages are always welcome!\n\nFlags & Water:\nFlags will be provided\nIf you have large bike flags\, please bring them.\nWater WILL NOT be provided\, please bring your own.\n\n\n\nSubmitted By: Chris Raymer \nPosition: Missouri Ride Captain \n\nNote: You do not have to own/ride a motorcycle or be a veteran to join\, and membership is Free. The only requirement is RESPECT! To subscribe to receive mission notices\, log into the National Site and click on the Members tab at the top. Select the Subscribe to PGR Missions option.\n Print This Page
URL:https://www.patriotguard.org/mission/raymond-edgar-sanner/
CATEGORIES:Honor Mission
END:VEVENT
END:VCALENDAR