BEGIN:VCALENDAR
VERSION:2.0
PRODID:-//Patriot Guard Riders - ECPv5.3.2.1//NONSGML v1.0//EN
CALSCALE:GREGORIAN
METHOD:PUBLISH
X-WR-CALNAME:Patriot Guard Riders
X-ORIGINAL-URL:https://www.patriotguard.org
X-WR-CALDESC:Events for Patriot Guard Riders
BEGIN:VTIMEZONE
TZID:America/New_York
BEGIN:DAYLIGHT
TZOFFSETFROM:-0500
TZOFFSETTO:-0400
TZNAME:EDT
DTSTART:20190310T070000
END:DAYLIGHT
BEGIN:STANDARD
TZOFFSETFROM:-0400
TZOFFSETTO:-0500
TZNAME:EST
DTSTART:20191103T060000
END:STANDARD
END:VTIMEZONE
BEGIN:VEVENT
DTSTART;VALUE=DATE:20190610
DTEND;VALUE=DATE:20190611
DTSTAMP:20210405T122048
CREATED:20190610T020515Z
LAST-MODIFIED:20190610T233414Z
UID:163953-1560124800-1560211199@www.patriotguard.org
SUMMARY:Raymond E. Monty
DESCRIPTION:Honor Mission\nRaymond E. Monty\, Veteran\nUSN\nAugusta\, Michigan – 06-12-19\n\n\n\nABOUT THE MISSION: \nThe family of Raymond E. Monty has invited the Patriot Guard Riders to stand in honor of his service to our country.\nMr. Monty served six years in the United States Navy.\nRay was very active in coaching at G.O.C.C.\, Burr Oak\, Sturgis and Centreville and was known to many in the community as Coach Monty. The highlight of his career was coaching his granddaughter Olivia as the assistant coach for the 2018 Centreville Softball State Champion team.\nObituary\n\n\nPRIMARY STAGING DETAILS: 06-10-19 \nStaging Time: 9:30 AM\n \nFt Custer National Cemetery\n15501 Dickman Rd.\nAugusta\, Michigan 49012\nMap\n\n\nRide Captain: \nGIG\n(517) 462-8143\n\n\nSpecial Instructions: \nBriefing: 9:45 AM\nFlag Line: at the direction of the RC.\nPlease meet just beyond the restrooms on the Avenue of Flags.\nDo not go down to the committal shelter early. RC Gig Wagner will release us to go down.\nPlease bring your 3′ x 5′ American Flag to stand for Raymond Monty.\n\n\nFlags & Water:\nFlags will not be provided\nLarge Bike Flags will NOT be needed.\nWater WILL NOT be provided\, please bring your own.\n\n\n\nSubmitted By: Terrence Laurencelle \nPosition: Michigan Ride Captain \n\nNote: You do not have to own/ride a motorcycle or be a veteran to join\, and membership is Free. The only requirement is RESPECT! To subscribe to receive mission notices\, log into the National Site and click on the Members tab at the top. Select the Subscribe to PGR Missions option.\n Print This Page
URL:https://www.patriotguard.org/mission/raymond-e-monty/
CATEGORIES:Honor Mission
END:VEVENT
END:VCALENDAR