BEGIN:VCALENDAR
VERSION:2.0
PRODID:-//Patriot Guard Riders - ECPv5.6.0//NONSGML v1.0//EN
CALSCALE:GREGORIAN
METHOD:PUBLISH
X-WR-CALNAME:Patriot Guard Riders
X-ORIGINAL-URL:https://www.patriotguard.org
X-WR-CALDESC:Events for Patriot Guard Riders
BEGIN:VTIMEZONE
TZID:America/New_York
BEGIN:DAYLIGHT
TZOFFSETFROM:-0500
TZOFFSETTO:-0400
TZNAME:EDT
DTSTART:20160313T070000
END:DAYLIGHT
BEGIN:STANDARD
TZOFFSETFROM:-0400
TZOFFSETTO:-0500
TZNAME:EST
DTSTART:20161106T060000
END:STANDARD
END:VTIMEZONE
BEGIN:VEVENT
DTSTART;TZID=America/New_York:20160607T090000
DTEND;TZID=America/New_York:20160607T110000
DTSTAMP:20210513T143839
CREATED:20160607T130000Z
LAST-MODIFIED:20191201T145430Z
UID:411593-1465290000-1465297200@www.patriotguard.org
SUMMARY:Raymond Dusenberry
DESCRIPTION:Raymond Dusenberry\nUS Navy Veteran\nSun City\, AZ\n7 June 2016\n\n\n\nThe family of Raymond Dusenberry has requested the Patriot Guard Riders of Arizona to stand a flag line and escort Raymond to his service at Phoenix National Cemetery\, and we would be honored to do so. \nRaymond served in the U.S.Navy \nRide Captain:\nGregg”Slider”Petersen\n480-215-9700\ngreggazpgr@gmail.com \nCo Ride Acting Captain:\nRick ” N’ Tel ” Smith Ride Captain in training \nFlag Support Vehicle Person:\nKaren Swanson \nDate: 7 June 2016 \nStaging Time: 0730hrs\, Meinke Funeral Home\, 12420 N. 103rd Ave.\, Sun City\, AZ 85351 \nBriefing Time: 0750hrs \nKSU: following service \nFlag Line: Upon Arrival at National at designated shelter \nMilitary Honors: 1100 hours\, 7 June 2016\, at the Arizona National Memorial Cemetery\, 23029 N. Cave Creek Road\, Phoenix\, AZ 85024 \nRoad Guards are requested. Please contact Douglas “Skully” Pierson with availability \nDue to Arizona Weather\, please hydrate the day before and the day of the mission.
URL:https://www.patriotguard.org/mission/raymond-dusenberry/
CATEGORIES:Archive
END:VEVENT
END:VCALENDAR