BEGIN:VCALENDAR
VERSION:2.0
PRODID:-//Patriot Guard Riders - ECPv5.6.0//NONSGML v1.0//EN
CALSCALE:GREGORIAN
METHOD:PUBLISH
X-WR-CALNAME:Patriot Guard Riders
X-ORIGINAL-URL:https://www.patriotguard.org
X-WR-CALDESC:Events for Patriot Guard Riders
BEGIN:VTIMEZONE
TZID:America/New_York
BEGIN:DAYLIGHT
TZOFFSETFROM:-0500
TZOFFSETTO:-0400
TZNAME:EDT
DTSTART:20160313T070000
END:DAYLIGHT
BEGIN:STANDARD
TZOFFSETFROM:-0400
TZOFFSETTO:-0500
TZNAME:EST
DTSTART:20161106T060000
END:STANDARD
END:VTIMEZONE
BEGIN:VEVENT
DTSTART;TZID=America/New_York:20160802T090000
DTEND;TZID=America/New_York:20160802T110000
DTSTAMP:20210512T051242
CREATED:20160802T130000Z
LAST-MODIFIED:20191201T143940Z
UID:410244-1470128400-1470135600@www.patriotguard.org
SUMMARY:Raymond Dill\, USAF
DESCRIPTION:The family of Raymond Dill\, USAF Korea Veteran has asked the Patriot Guard Riders to stand a flag line at his funeral service to be held on Tuesday\, 2 Aug 2016 in Durant\, OK. \nServices will be held at Brown’s Funeral Chapel\, 4900 W. US Hwy 70 Durant\, OK at 2:00pm. \nWe will escort the hero to Bokchito Cemetery for interment. \nThe Choctaw Honor Guard will conduct Military Honors. \nDate: Tuesday\, 2 Aug 2016 \nStaging: 12:45pm\nBrown’s Funeral Chapel\n4900 W. US Hwy 70\nDurant\, OK \nMANDATORY BRIEFING: 1:15pm\nYOU MUST ATTEND THE BRIEFING TO RIDE IN THE ESCORT. \nFLAG LINE: 1:30pm  \nWEATHER: Temp Low 74 High 97 Please dress accordingly. Hydrate\, Hydrate \n                    [Water will be Available]\n\nRCIC:\nJamie “Bloodhound” StClair\n580-380-1443\nacornerd@cherokeetel.com
URL:https://www.patriotguard.org/mission/raymond-dill-usaf/
CATEGORIES:Archive
END:VEVENT
END:VCALENDAR