BEGIN:VCALENDAR
VERSION:2.0
PRODID:-//Patriot Guard Riders - ECPv5.3.2.1//NONSGML v1.0//EN
CALSCALE:GREGORIAN
METHOD:PUBLISH
X-WR-CALNAME:Patriot Guard Riders
X-ORIGINAL-URL:https://www.patriotguard.org
X-WR-CALDESC:Events for Patriot Guard Riders
BEGIN:VTIMEZONE
TZID:America/New_York
BEGIN:DAYLIGHT
TZOFFSETFROM:-0500
TZOFFSETTO:-0400
TZNAME:EDT
DTSTART:20190310T070000
END:DAYLIGHT
BEGIN:STANDARD
TZOFFSETFROM:-0400
TZOFFSETTO:-0500
TZNAME:EST
DTSTART:20191103T060000
END:STANDARD
END:VTIMEZONE
BEGIN:VEVENT
DTSTART;VALUE=DATE:20190722
DTEND;VALUE=DATE:20190723
DTSTAMP:20210404T060706
CREATED:20190720T043326Z
LAST-MODIFIED:20190720T043326Z
UID:168338-1563753600-1563839999@www.patriotguard.org
SUMMARY:Raymond Carrizales
DESCRIPTION:Honor Mission\nRaymond Carrizales\, Veteran\nUSA – Korea\nGeorgetown\, Texas – 07-22-19\n\n\n \n\nABOUT THE MISSION: \nMr. Carrizales\, 87\, served in the US Army from January 1949 to September 1952\, including deployment to the Korean War. He left the service as a Sergeant.\n\n\nPRIMARY STAGING DETAILS: 07-22-19 \nStaging Time: 12:30 pm\n \nSt. Helen Catholic Church\n2700 E. University\nGeorgetown\, Texas 78626\nMap\n\n\nRide Captain: \nRuss Miller\nnavyvetad2@gmail.com\n(512) 636-9692\n\n\nSpecial Instructions: \nThis is a flag line only at the church. After the funeral service begins we will strike the flag line and quietly depart.\n\nFlags & Water:\nFlags will be provided\nLarge Bike Flags will NOT be needed.\nWater will be provided.\n\n\n\nSubmitted By: Mark Wells \nPosition: Texas Ride Captain \n\nNote: You do not have to own/ride a motorcycle or be a veteran to join\, and membership is Free. The only requirement is RESPECT! To subscribe to receive mission notices\, log into the National Site and click on the Members tab at the top. Select the Subscribe to PGR Missions option.\n Print This Page
URL:https://www.patriotguard.org/mission/raymond-carrizales/
CATEGORIES:Honor Mission
END:VEVENT
END:VCALENDAR