BEGIN:VCALENDAR
VERSION:2.0
PRODID:-//Patriot Guard Riders - ECPv5.6.0//NONSGML v1.0//EN
CALSCALE:GREGORIAN
METHOD:PUBLISH
X-WR-CALNAME:Patriot Guard Riders
X-ORIGINAL-URL:https://www.patriotguard.org
X-WR-CALDESC:Events for Patriot Guard Riders
BEGIN:VTIMEZONE
TZID:America/New_York
BEGIN:DAYLIGHT
TZOFFSETFROM:-0500
TZOFFSETTO:-0400
TZNAME:EDT
DTSTART:20210314T070000
END:DAYLIGHT
BEGIN:STANDARD
TZOFFSETFROM:-0400
TZOFFSETTO:-0500
TZNAME:EST
DTSTART:20211107T060000
END:STANDARD
END:VTIMEZONE
BEGIN:VEVENT
DTSTART;TZID=America/New_York:20210510T000000
DTEND;TZID=America/New_York:20210510T000000
DTSTAMP:20210512T075118
CREATED:20210510T193902Z
LAST-MODIFIED:20210510T194118Z
UID:576980-1620604800-1620604800@www.patriotguard.org
SUMMARY:Raymond C. Noakes
DESCRIPTION:Honor Mission\nRaymond C. Noakes\, Veteran\nUSA \, USAR – Vietnam\nPittsburgh\, Pennsylvania – 05-14-21\n\n\n\nABOUT THE MISSION: \n  The Patriot Guard Riders have been invited by the family of Raymond C. Noakes\, U.S. Army and U.S. Army Reserves veteran\, to stand in silent honor for his service then escort to the National Cemetery of the Alleghenies for the interment.  Raymond served in the U.S. Army February of 1966\, having served in theatre during Vietnam then transferred to the U.S. Army Reserves September of 1968 with last duty assignment\, Company C 2nd Battalion 5th Cavalry 1st Cavalry Division and was honorably discharged with the rank of Sergeant February of 1972.  Decorations include the Air Medal\, National Defense Service Medal\, Overseas \, Vietnam Service Medal\, Service Ribbon w/ One Bar\, Vietnam Campaign Medal.\n  Raymond served our country with honor\, it’s now our turn to honor him.\n\n\nPRIMARY STAGING DETAILS: 05-14-21 \nStaging Time: 09:15  \nGriffith Funeral Home\, Inc.\n5636 Brownsville Rd\nPittsburgh\, Pennsylvania 15236\n\n\nRide Captain: \nRandy Toomey\nrandi2me@aol.com\n(412) 377-0799\n\n\nSpecial Instructions: \nBriefing: 9:30 AM\nFlag Line: 9:45 AM\nVisitation 10-1:00 PM\nService at 1:00 PM\nFollowing the service KSU\, escorting for interment:\nNational Cemetery of the Alleghenies\n1158 Morgan Rd\nCecil Township\,PA 15017\nhttps://goo.gl/maps/PJYsN\nInterment at 2:30 PM\n\nMembers can attend all of a mission or any part of the mission. PGR sets no time for a member to escort and or stand a mission. We Thank you for whatever time you give us and the families of our heroes appreciate your time.\n***Remember that the National Cemetery is a Federal Reservation and NO WEAPONS are permitted. Also grab your masks\, they need to be worn while social distancing during the service and interment and once indoors.***\nAlso before heading out\, please watch the weather and dress accordingly.\n\n\nFlags & Water:\nFlags will not be provided\nLarge Bike Flags will NOT be needed.\nWater WILL NOT be provided\, please bring your own.\n\n\nSubmitted By: Marcy Sorensen \nPosition: Pennsylvania Ride Captain \n\nNote: You do not have to own/ride a motorcycle or be a veteran to join\, and membership is Free. The only requirement is RESPECT! To subscribe to receive mission notices\, log into the National Site and click on the Members tab at the top. Select the Subscribe to PGR Missions option.\n Print This Page
URL:https://www.patriotguard.org/mission/raymond-c-noakes/
CATEGORIES:Honor Mission
END:VEVENT
END:VCALENDAR