BEGIN:VCALENDAR
VERSION:2.0
PRODID:-//Patriot Guard Riders - ECPv5.6.0//NONSGML v1.0//EN
CALSCALE:GREGORIAN
METHOD:PUBLISH
X-WR-CALNAME:Patriot Guard Riders
X-ORIGINAL-URL:https://www.patriotguard.org
X-WR-CALDESC:Events for Patriot Guard Riders
BEGIN:VTIMEZONE
TZID:America/New_York
BEGIN:DAYLIGHT
TZOFFSETFROM:-0500
TZOFFSETTO:-0400
TZNAME:EDT
DTSTART:20160313T070000
END:DAYLIGHT
BEGIN:STANDARD
TZOFFSETFROM:-0400
TZOFFSETTO:-0500
TZNAME:EST
DTSTART:20161106T060000
END:STANDARD
END:VTIMEZONE
BEGIN:VEVENT
DTSTART;TZID=America/New_York:20160725T090000
DTEND;TZID=America/New_York:20160725T110000
DTSTAMP:20210512T210013
CREATED:20160725T130000Z
LAST-MODIFIED:20191201T144138Z
UID:410426-1469437200-1469444400@www.patriotguard.org
SUMMARY:Rayburn Foster\, USMC
DESCRIPTION:The family of Rayburn Foster has invited the PGR to be present at his services on Monday 25 July 2016. \nService is graveside only at 1000\, Resthaven Memorial Gardens 500 SW 104th in Oklahoma City\, OK. \nStaging: 0900 – Resthaven Memorial Gardens\, Corner of SW 104th and Walker in OKC\, OK. \nBriefing: 0910 – Mandatory Briefing. \nKSU: Immediately after the PGR briefing. We will move to the grave site to prepare for Cpl. Foster’s arrival. \nNO ESCORT. At family request\, we will be present only at the grave site. They prefer a small private ceremony but felt compelled to invite the PGR to honor “RT”. \nUSMC Honor Guard will present military honors. \nRayburn Foster is well known as “RT” Foster and recognized the artwork he has created. \nRT served as a US Marine Cpl. With 2 tours in Vietnam. \nRCIC: Sharon Gilreath\n405-850-0752\nOldgrandmato4@gmail.com
URL:https://www.patriotguard.org/mission/rayburn-foster-usmc/
CATEGORIES:Archive
END:VEVENT
END:VCALENDAR