BEGIN:VCALENDAR
VERSION:2.0
PRODID:-//Patriot Guard Riders - ECPv5.6.0//NONSGML v1.0//EN
CALSCALE:GREGORIAN
METHOD:PUBLISH
X-WR-CALNAME:Patriot Guard Riders
X-ORIGINAL-URL:https://www.patriotguard.org
X-WR-CALDESC:Events for Patriot Guard Riders
BEGIN:VTIMEZONE
TZID:America/New_York
BEGIN:DAYLIGHT
TZOFFSETFROM:-0500
TZOFFSETTO:-0400
TZNAME:EDT
DTSTART:20210314T070000
END:DAYLIGHT
BEGIN:STANDARD
TZOFFSETFROM:-0400
TZOFFSETTO:-0500
TZNAME:EST
DTSTART:20211107T060000
END:STANDARD
END:VTIMEZONE
BEGIN:VEVENT
DTSTART;VALUE=DATE:20210512
DTEND;VALUE=DATE:20210513
DTSTAMP:20210511T123627
CREATED:20210509T161310Z
LAST-MODIFIED:20210509T161310Z
UID:576495-1620777600-1620863999@www.patriotguard.org
SUMMARY:Ray Lee Meininger
DESCRIPTION:Honor Mission\nRay Lee Meininger\, Veteran\nUSN – Korea\nGrand Junction\, Colorado – 05-12-21\n\n\n\nABOUT THE MISSION: \nQM2 Meininger came forward with others to serve his country and flag with Honor to help others preserve their Freedoms. We have been invited to stand a flag Line for our Fallen Hero.\n\n\nPRIMARY STAGING DETAILS: 05-12-21 \nStaging Time: 12:15 PM\n \nVeterans Memorial Cemetery Shelter area\n2830 Riverside Parkway\nGrand Junction\, Colorado 81504\n\n\nRide Captain: \nArt (groady) Edwards\n970-250-1174\n\n\nSpecial Instructions: \n\n\nFlags & Water:\nFlags will be provided\nLarge Bike Flags will NOT be needed.\nWater will be provided.\n\n\nSubmitted By: Arthur Edwards \nPosition: Colorado Assistant State Captain \n\nNote: You do not have to own/ride a motorcycle or be a veteran to join\, and membership is Free. The only requirement is RESPECT! To subscribe to receive mission notices\, log into the National Site and click on the Members tab at the top. Select the Subscribe to PGR Missions option.\n Print This Page
URL:https://www.patriotguard.org/mission/ray-lee-meininger/
CATEGORIES:Honor Mission
END:VEVENT
END:VCALENDAR