BEGIN:VCALENDAR
VERSION:2.0
PRODID:-//Patriot Guard Riders - ECPv5.3.2.1//NONSGML v1.0//EN
CALSCALE:GREGORIAN
METHOD:PUBLISH
X-WR-CALNAME:Patriot Guard Riders
X-ORIGINAL-URL:https://www.patriotguard.org
X-WR-CALDESC:Events for Patriot Guard Riders
BEGIN:VTIMEZONE
TZID:America/New_York
BEGIN:DAYLIGHT
TZOFFSETFROM:-0500
TZOFFSETTO:-0400
TZNAME:EDT
DTSTART:20190310T070000
END:DAYLIGHT
BEGIN:STANDARD
TZOFFSETFROM:-0400
TZOFFSETTO:-0500
TZNAME:EST
DTSTART:20191103T060000
END:STANDARD
END:VTIMEZONE
BEGIN:VEVENT
DTSTART;VALUE=DATE:20190629
DTEND;VALUE=DATE:20190630
DTSTAMP:20210405T032440
CREATED:20190627T185731Z
LAST-MODIFIED:20190627T185731Z
UID:166083-1561766400-1561852799@www.patriotguard.org
SUMMARY:Ray Fletcher Sherron
DESCRIPTION:Honor Mission\nRay Fletcher Sherron\, Veteran\nUSA\, ANG – Vietnam\nCreedmoor\, North Carolina – 06-29-19\n\n\n\nABOUT THE MISSION: \nPatriots we have been called once again to stand and honor a Hero\, SP/5 Ray Fletcher Sherron who served in Vietnam with the SVC BTRY 5th BN 4th Artilley 5th Infantry Division 1967-1968. He also served in the NC National Guard. He was awarded the Army Accommodation Medal\, Vietnam Service Medal\, Vietnam Campaign Medal\, Good Conduct Medal and the National Defense Medal. As SP/5 Ray Fletcher Sherron stood for us it will be our honor to stand and escort him to his final duty station.\n\n\nPRIMARY STAGING DETAILS: 06-29-19 \nStaging Time: 11:15 AM\n \nBaptist Bible Church\n2047 Gate 2 rd\nCreedmoor\, North Carolina 27522\n\n\nRide Captain: \nRandy Bright\n(919) 616-4603\n\n\nSpecial Instructions: \nStaging : 11:15 am\nBriefing: 11:45 am and prepare to stand a flag line.\nStand down: 1:45 pm at beginning of service and prepare for escort to the Sherron Family Cemetery\, Will Suitt Rd\, Creedmoor NC (approx 5 miles).\n\n\nFlags & Water:\nFlags will be provided\nIf you have large bike flags\, please bring them.\nWater will be provided.\n\n\n\nSubmitted By: Charles Bullock \nPosition: North Carolina Assistant State Captain \n\nNote: You do not have to own/ride a motorcycle or be a veteran to join\, and membership is Free. The only requirement is RESPECT! To subscribe to receive mission notices\, log into the National Site and click on the Members tab at the top. Select the Subscribe to PGR Missions option.\n Print This Page
URL:https://www.patriotguard.org/mission/ray-fletcher-sherron/
CATEGORIES:Honor Mission
END:VEVENT
END:VCALENDAR