BEGIN:VCALENDAR
VERSION:2.0
PRODID:-//Patriot Guard Riders - ECPv5.3.2.1//NONSGML v1.0//EN
CALSCALE:GREGORIAN
METHOD:PUBLISH
X-WR-CALNAME:Patriot Guard Riders
X-ORIGINAL-URL:https://www.patriotguard.org
X-WR-CALDESC:Events for Patriot Guard Riders
BEGIN:VTIMEZONE
TZID:America/New_York
BEGIN:DAYLIGHT
TZOFFSETFROM:-0500
TZOFFSETTO:-0400
TZNAME:EDT
DTSTART:20210314T070000
END:DAYLIGHT
BEGIN:STANDARD
TZOFFSETFROM:-0400
TZOFFSETTO:-0500
TZNAME:EST
DTSTART:20211107T060000
END:STANDARD
END:VTIMEZONE
BEGIN:VEVENT
DTSTART;VALUE=DATE:20210401
DTEND;VALUE=DATE:20210402
DTSTAMP:20210403T123005
CREATED:20210331T233815Z
LAST-MODIFIED:20210331T233815Z
UID:573438-1617235200-1617321599@www.patriotguard.org
SUMMARY:Raul Gabriel Villaronga
DESCRIPTION:Honor Mission\nRaul Gabriel Villaronga\, Retired\nUSA – Vietnam\nKilleen\, Texas – 04-01-21\n\n\n\nABOUT THE MISSION: \nThe obituary of Colonel Raul Gabriel Villaronga may be found here: Obituary\n\n\nPRIMARY STAGING DETAILS: 04-01-21 \nStaging Time: 10:00 AM\n \nCrawford-Bowers Funeral Home\n1615 South Fort Hood St.\nKilleen\, Texas 76542\n\n\nRide Captain: \nHolly “Holler” Melendez\n254.931.0127\nInVamous_Kai@yahoo.com\n\n\nSpecial Instructions: \nBriefing: 10:15\nKSU: 10:30 +/- At the discretion of the Funeral Director.\nAny rider who does not attend the rider briefing will not be permitted to participate in the procession.\n\n\nFlags & Water:\nFlags will not be provided\nIf you have large bike flags\, please bring them.\nWater will be provided.\n\nSTAGING #2 DETAILS: 04-01-21 \nStaging Time: 10:05 AM\n \nCentral Texas State Veterans Cemetery\n11463 SH 195\nKilleen\, Texas 76542\n\n\nRide Captain: \nHolly “Holler” Melendez\n254.931.0127\nInVamous_Kai@yahoo.com\n\n\nSpecial Instructions: \nMeet at cul-de-sac between the Walk of Heroes and the Memorial Shelter.\nUpon clearance and at the direction of the Ride Captain\, we will move to the shelter\, set up the flags\, be briefed and await arrival of the procession.\n\n\nFlags & Water:\nFlags will be provided\nLarge Bike Flags will NOT be needed.\nWater will be provided.\n\n\nSubmitted By: Holly Melendez \nPosition: Texas Ride Captain \n\nNote: You do not have to own/ride a motorcycle or be a veteran to join\, and membership is Free. The only requirement is RESPECT! To subscribe to receive mission notices\, log into the National Site and click on the Members tab at the top. Select the Subscribe to PGR Missions option.\n Print This Page
URL:https://www.patriotguard.org/mission/raul-gabriel-villaronga/
CATEGORIES:Honor Mission
END:VEVENT
END:VCALENDAR