BEGIN:VCALENDAR
VERSION:2.0
PRODID:-//Patriot Guard Riders - ECPv5.3.2.1//NONSGML v1.0//EN
CALSCALE:GREGORIAN
METHOD:PUBLISH
X-WR-CALNAME:Patriot Guard Riders
X-ORIGINAL-URL:https://www.patriotguard.org
X-WR-CALDESC:Events for Patriot Guard Riders
BEGIN:VTIMEZONE
TZID:America/New_York
BEGIN:DAYLIGHT
TZOFFSETFROM:-0500
TZOFFSETTO:-0400
TZNAME:EDT
DTSTART:20190310T070000
END:DAYLIGHT
BEGIN:STANDARD
TZOFFSETFROM:-0400
TZOFFSETTO:-0500
TZNAME:EST
DTSTART:20191103T060000
END:STANDARD
END:VTIMEZONE
BEGIN:VEVENT
DTSTART;VALUE=DATE:20190724
DTEND;VALUE=DATE:20190725
DTSTAMP:20210404T064513
CREATED:20190720T221409Z
LAST-MODIFIED:20190720T221701Z
UID:168374-1563926400-1564012799@www.patriotguard.org
SUMMARY:Randy Taplin
DESCRIPTION:Memorial\nRandy Taplin\, Veteran\nUSA – Vietnam\nMULTI-CITY\, Oregon – 07-24-19\n\n\n\nABOUT THE MISSION: \nLadies and Gentlemen of the Patriot Guard Riders\, we have been requested by Family and Friends to provide an escort and flag line for US Army Vietnam War Veteran Randy Taplin. Randy served in country in Vietnam and served veterans locally as past Board Member and Sargent of Arms for Vietnam Veterans of America Umpqua Valley Chapter 805 for multiple terms. Randy gave of his time and talents. Please help us support his family\, pay our respects and honor his service to our Country and our Community.\n\n\nPRIMARY STAGING DETAILS: 07-24-19 \nStaging Time: 11:30 AM\n \nTaylor’s Mortuary\n245 SW Main St\nWinston\, Oregon 97496\nMap\n\n\nRide Captain: \nSparky/Terry Mooney\nlinda.mooney@earthlink.net\n\n\nSpecial Instructions: \nBriefing: 11:40 am\nKSU: 12:00 pm\nPlease have your flags securely fixed to your bikes.\nWe will provide escort to Roseburg National Cemetery.\n\n\nFlags & Water:\nFlags will not be provided\nIf you have large bike flags\, please bring them.\nWater WILL NOT be provided\, please bring your own.\n\nSTAGING #2 DETAILS: 07-24-19 \nStaging Time: 12:00 PM\n \nRoseburg National Cemetery Annex\n1770 W Harvard Ave\nRoseburg\, Oregon 97470\nMap\n\n\nRide Captain: \nLiberty/Linda Mooney\nlinda.mooney@earthlink.net\n\n\nSpecial Instructions: \nSouth Entrance off West Harvard\nBriefing: 12:10 pm\nFlag line Set: 12:15 pm\nService Begins: 1:00 pm\nCelebration of life reception will be held at VAHCS Auditorium\, Building #16 following the memorial service with all invited.\n\n\nFlags & Water:\nFlags will be provided\nLarge Bike Flags will NOT be needed.\nWater WILL NOT be provided\, please bring your own.\n\n\n\nSubmitted By: John Hanan II \nPosition: Oregon State Captain \n\nNote: You do not have to own/ride a motorcycle or be a veteran to join\, and membership is Free. The only requirement is RESPECT! To subscribe to receive mission notices\, log into the National Site and click on the Members tab at the top. Select the Subscribe to PGR Missions option.\n Print This Page
URL:https://www.patriotguard.org/mission/randy-taplin/
CATEGORIES:Memorial
END:VEVENT
END:VCALENDAR