BEGIN:VCALENDAR
VERSION:2.0
PRODID:-//Patriot Guard Riders - ECPv5.3.2.1//NONSGML v1.0//EN
CALSCALE:GREGORIAN
METHOD:PUBLISH
X-WR-CALNAME:Patriot Guard Riders
X-ORIGINAL-URL:https://www.patriotguard.org
X-WR-CALDESC:Events for Patriot Guard Riders
BEGIN:VTIMEZONE
TZID:America/New_York
BEGIN:DAYLIGHT
TZOFFSETFROM:-0500
TZOFFSETTO:-0400
TZNAME:EDT
DTSTART:20190310T070000
END:DAYLIGHT
BEGIN:STANDARD
TZOFFSETFROM:-0400
TZOFFSETTO:-0500
TZNAME:EST
DTSTART:20191103T060000
END:STANDARD
END:VTIMEZONE
BEGIN:VEVENT
DTSTART;VALUE=DATE:20190606
DTEND;VALUE=DATE:20190607
DTSTAMP:20210405T052513
CREATED:20190603T233222Z
LAST-MODIFIED:20190603T233222Z
UID:163512-1559779200-1559865599@www.patriotguard.org
SUMMARY:Randy L. Hampton Sr.
DESCRIPTION:Honor Mission\nRandy L. Hampton Sr.\, Veteran\nUSA\, USAF – Vietnam\nSt Charles\, Missouri – 06-06-19\n\n\n\n\nABOUT THE MISSION: \nLadies and Gentlemen of the Patriot Guard Riders\,\nWe have been invited to honor a revered member of the United States Military.\nThe family of Randy L. Hampton Sr. has invited Patriot Guard Riders to stand a flag line of honor and respect. It will be our honor to do so. We will then escort their loved one to his final resting place in the Hallowed Grounds of Jefferson Barracks National Cemetery for his final Military Honors.\nHero Hampton served in the United States Army from November 1962 to September of 1965. He attained the rank of PFC (E3) and served as a Medical Technician. He was awarded Marksman Badge for Pistol and expert in Rifle. He later joined the United States Air Force in May of 1966\, serving until October of 1967. He was an Airman Basic (E1) and again served as a Medical Specialist. He was awarded the National Defense Service Medal and the Air Force Longevity Award.\n\n\nPRIMARY STAGING DETAILS: 06-06-19 \nStaging Time: 10:45 am\n \nBaue Funeral & Memorial Center\n3950 W Clay St.\nSt Charles\, Missouri 63301\nMap\n\n\nRide Captain: \nJoseph “Mustang” Bilodeau\njoseph1918@aol.com\n(636) 577-4767\n\n\nSpecial Instructions: \nStage/Mission Brief: 10:45 am\nWe will stand a flag line from 11:00 am to 12:00 pm\nFuneral Service at 12:00 pm\nFollowing the service\, we will escort our hero to Jefferson Barracks National Cemetery for a 2:00 pm slot.\nWeather forecast is thunderstorms and rain with a high of 77F. 90% chance of rain.\nFlags and Support by Mike Jenkins\nCages are always welcome\n\n\nFlags & Water:\nFlags will be provided\nIf you have large bike flags\, please bring them.\nWater will be provided.\n\n\n\nSubmitted By: Joseph Bilodeau \nPosition: Missouri Ride Captain \n\nNote: You do not have to own/ride a motorcycle or be a veteran to join\, and membership is Free. The only requirement is RESPECT! To subscribe to receive mission notices\, log into the National Site and click on the Members tab at the top. Select the Subscribe to PGR Missions option.\n Print This Page
URL:https://www.patriotguard.org/mission/randy-l-hampton-sr/
CATEGORIES:Honor Mission
END:VEVENT
END:VCALENDAR