BEGIN:VCALENDAR
VERSION:2.0
PRODID:-//Patriot Guard Riders - ECPv5.6.0//NONSGML v1.0//EN
CALSCALE:GREGORIAN
METHOD:PUBLISH
X-WR-CALNAME:Patriot Guard Riders
X-ORIGINAL-URL:https://www.patriotguard.org
X-WR-CALDESC:Events for Patriot Guard Riders
BEGIN:VTIMEZONE
TZID:America/New_York
BEGIN:DAYLIGHT
TZOFFSETFROM:-0500
TZOFFSETTO:-0400
TZNAME:EDT
DTSTART:20080309T070000
END:DAYLIGHT
BEGIN:STANDARD
TZOFFSETFROM:-0400
TZOFFSETTO:-0500
TZNAME:EST
DTSTART:20081102T060000
END:STANDARD
END:VTIMEZONE
BEGIN:VEVENT
DTSTART;TZID=America/New_York:20080808T090000
DTEND;TZID=America/New_York:20080808T110000
DTSTAMP:20210513T035954
CREATED:20080808T130000Z
LAST-MODIFIED:20191201T113546Z
UID:380828-1218186000-1218193200@www.patriotguard.org
SUMMARY:Randy Duty\, 46\, USMC Veteran
DESCRIPTION:Updated 6 Aug 08 1820 edt S Sturgis \n\n \nSTAGING:  Shaws Supermarket \n81 Prospect Street \nMilford\, MA \nMAP LINK:  click here > SHAWS MILFORD MAP \nSTAGING TIME:  10:45 – 11:30 Friday\, August 8th \nBRIEFING:  11:30 \nKSU:  11:45 \n________________________________________________________________________ \nThe family of Randy Duty has requested the presence of the PGR at Randy’s services on Friday\, August 8th.  For planning purposes the funeral service will be at the funeral home starting at noon followed by internment in Milford. \nStaging location and time will be finalized Thursday afternoon; please check back for details. \nRIDE CAPTAIN:  Howard Shrut  hshrut@rcn.com \n>>>>>>PLEASE BRING YOUR FLAGS
URL:https://www.patriotguard.org/mission/randy-duty-46-usmc-veteran/
CATEGORIES:Archive
END:VEVENT
END:VCALENDAR