BEGIN:VCALENDAR
VERSION:2.0
PRODID:-//Patriot Guard Riders - ECPv5.3.2.1//NONSGML v1.0//EN
CALSCALE:GREGORIAN
METHOD:PUBLISH
X-WR-CALNAME:Patriot Guard Riders
X-ORIGINAL-URL:https://www.patriotguard.org
X-WR-CALDESC:Events for Patriot Guard Riders
BEGIN:VTIMEZONE
TZID:America/New_York
BEGIN:DAYLIGHT
TZOFFSETFROM:-0500
TZOFFSETTO:-0400
TZNAME:EDT
DTSTART:20190310T070000
END:DAYLIGHT
BEGIN:STANDARD
TZOFFSETFROM:-0400
TZOFFSETTO:-0500
TZNAME:EST
DTSTART:20191103T060000
END:STANDARD
END:VTIMEZONE
BEGIN:VEVENT
DTSTART;VALUE=DATE:20190615
DTEND;VALUE=DATE:20190616
DTSTAMP:20210405T061415
CREATED:20190612T031612Z
LAST-MODIFIED:20190612T031612Z
UID:164483-1560556800-1560643199@www.patriotguard.org
SUMMARY:Randy Dale Wilkinson
DESCRIPTION:Honor Mission\nRandy Dale Wilkinson\, Veteran\nUSMC –\nLeighton\, Alabama – 06-15-19\n\n\n\nABOUT THE MISSION: \nThe family of Randy Dale Wilkinson has asked the Patriot Guard to honor their loved one by standing a silent flag line at his Visitation and Funeral Service. We will be Honored to do so. Mr. Wilkinson stood for us…..now is the time to stand for him. Mr. Wilkinson (55) was in the US Marine Corps and served with distinction.\n\n\nPRIMARY STAGING DETAILS: 06-15-19 \nStaging Time: 1:00 PM\n \nCowboy Church\n3440 Hwy 157\nLeighton\, Alabama 35646\n\n\nRide Captain: \nTC Dawson\ntcdawson5@gmail.com\n256-577-6577\n\n\nSpecial Instructions: \nPlace flags.\nSet flag line.\nFamily arrives at 1:30 pm.\nService to follow at 2:00 pm\n\n\nFlags & Water:\nFlags will be provided\nLarge Bike Flags will NOT be needed.\nWater WILL NOT be provided\, please bring your own.\n\n\n\nSubmitted By: John Cooper \nPosition: Alabama Ride Captain \n\nNote: You do not have to own/ride a motorcycle or be a veteran to join\, and membership is Free. The only requirement is RESPECT! To subscribe to receive mission notices\, log into the National Site and click on the Members tab at the top. Select the Subscribe to PGR Missions option.\n Print This Page
URL:https://www.patriotguard.org/mission/randy-dale-wilkinson/
CATEGORIES:Honor Mission
END:VEVENT
END:VCALENDAR