BEGIN:VCALENDAR
VERSION:2.0
PRODID:-//Patriot Guard Riders - ECPv5.3.2.1//NONSGML v1.0//EN
CALSCALE:GREGORIAN
METHOD:PUBLISH
X-WR-CALNAME:Patriot Guard Riders
X-ORIGINAL-URL:https://www.patriotguard.org
X-WR-CALDESC:Events for Patriot Guard Riders
BEGIN:VTIMEZONE
TZID:America/New_York
BEGIN:DAYLIGHT
TZOFFSETFROM:-0500
TZOFFSETTO:-0400
TZNAME:EDT
DTSTART:20180311T070000
END:DAYLIGHT
BEGIN:STANDARD
TZOFFSETFROM:-0400
TZOFFSETTO:-0500
TZNAME:EST
DTSTART:20181104T060000
END:STANDARD
END:VTIMEZONE
BEGIN:VEVENT
DTSTART;TZID=America/New_York:20180421T120000
DTEND;TZID=America/New_York:20180421T140000
DTSTAMP:20210402T022023
CREATED:20180421T160000Z
LAST-MODIFIED:20201222T035508Z
UID:341532-1524312000-1524319200@www.patriotguard.org
SUMMARY:Randy Carl Anderson\, Veteran\, USA
DESCRIPTION:Honor Mission\nRandy Carl Anderson\, Veteran\nUSA\nCottage Grove\, Oregon – 21 Apr 2018\n\n\nABOUT THE MISSION: \nLadies and gentlemen of the Patriot Guard Riders\, we have been invited to stand for Randy Carl Anderson\, age 65. Randy served in the US Army from 5 October 1972 to 25 September 1974 as a clerk typist\, earning the rank of Specialist 4 in the 69th Ordinance Company\, Southern European Command. During Randy’s honorable service to our nation\, he earned the National Defense Service Medal and an M16 Sharpshooter Badge. Please join us as we pay our respects and honor his service to our nation.\nPRIMARY STAGING DETAILS: 21 Apr 2018\nPrimary Staging Time: 12:00 P.M. \nCottage Theatre\n700 Village Dr\nCottage Grove\, Oregon – 97424\nhttps://goo.gl/maps/bjk2HbTKymx\nRide Captain: \nJim “Ticker” Stroda \nticker690@yahoo.com\nSpecial Instructions: \nBriefing: 12:20 pm\nFlag line Set: 12:30 pm\nService Begins: 1:00 pm\nFlags & Water: \nFlags Will NOT Be Provided\, Please Bring Your Own.\nIf you have large bike flags\, please bring them.\nWater WILL NOT be provided\, please bring your own.\n\nSubmitted By: John Hanan II\nPosition: State Captain\n \n\nNote:\nYou do not have to own/ride a motorcycle or be a Veteran to join and membership is Free. The only requirement is RESPECT! To join\, simply go to www.PatriotGuard.org and click on Register. Membership is Free. \nTo subscribe to receive mission notices\, log into the National Site and click on the Mission Tab at the top. Select the Subscribe to Missions option.
URL:https://www.patriotguard.org/mission/randy-carl-anderson-veteran-usa/
CATEGORIES:Honor Mission
END:VEVENT
END:VCALENDAR