BEGIN:VCALENDAR
VERSION:2.0
PRODID:-//Patriot Guard Riders - ECPv5.6.0//NONSGML v1.0//EN
CALSCALE:GREGORIAN
METHOD:PUBLISH
X-WR-CALNAME:Patriot Guard Riders
X-ORIGINAL-URL:https://www.patriotguard.org
X-WR-CALDESC:Events for Patriot Guard Riders
BEGIN:VTIMEZONE
TZID:America/New_York
BEGIN:DAYLIGHT
TZOFFSETFROM:-0500
TZOFFSETTO:-0400
TZNAME:EDT
DTSTART:20160313T070000
END:DAYLIGHT
BEGIN:STANDARD
TZOFFSETFROM:-0400
TZOFFSETTO:-0500
TZNAME:EST
DTSTART:20161106T060000
END:STANDARD
END:VTIMEZONE
BEGIN:VEVENT
DTSTART;TZID=America/New_York:20160623T090000
DTEND;TZID=America/New_York:20160623T110000
DTSTAMP:20210513T185146
CREATED:20160623T130000Z
LAST-MODIFIED:20191201T144913Z
UID:411119-1466672400-1466679600@www.patriotguard.org
SUMMARY:Randall L. Swanson\, 68\, USMC\, Vietnam / Jamestown
DESCRIPTION:Please note that due to ongoing OPSEC concerns\, mission details are not shown in this posting. All specific details and updates have been sent to members directly via their e-mail address on file.\n\nMembers: \nWe have been requested to stand in Honor of another Vietnam War Veteran.  Randall L. Swanson passed away on June 20th at the age of 68. \nMr. Swanson served in the United States Marine Corps for two years from 1966-1968\, including a tour in Vietnam. His MOS was 0311 Rifleman. He was Honorably Discharged on 20 September 1968 with the rank of Corporal (E-4.)  For his service to our Nation\, Cpl. Swanson was awarded:  National Defense Service Medal\, Vietnam Service Medal and Vietnam Campaign Medal. \nObituary: Click here for a link to his obituary. \nMission Details:\nThursday\, June 23\, 2016\nJamestown\, NY  14701 \nEscort to:\nRiverside Cemetery\nKennedy\, NY \nPlease do whatever you are able to help Honor the Vietnam War Service of Randall Swanson and to support his loving family. \nPlease arrive on time with a clean 3×5 American Flag or a US Marine Corps flag.  Dress for the weather\, bring a drink for hydration\, and ensure your bike flags are properly placed and securely attached. \nLRC\nGeorge Brown\nmar10387@netzero.net \nDon Higgins\, SRC\ngladiator6988@hotmail.com
URL:https://www.patriotguard.org/mission/randall-l-swanson-68-usmc-vietnam-jamestown/
CATEGORIES:Archive
END:VEVENT
END:VCALENDAR