BEGIN:VCALENDAR
VERSION:2.0
PRODID:-//Patriot Guard Riders - ECPv5.3.2.1//NONSGML v1.0//EN
CALSCALE:GREGORIAN
METHOD:PUBLISH
X-WR-CALNAME:Patriot Guard Riders
X-ORIGINAL-URL:https://www.patriotguard.org
X-WR-CALDESC:Events for Patriot Guard Riders
BEGIN:VTIMEZONE
TZID:America/New_York
BEGIN:DAYLIGHT
TZOFFSETFROM:-0500
TZOFFSETTO:-0400
TZNAME:EDT
DTSTART:20190310T070000
END:DAYLIGHT
BEGIN:STANDARD
TZOFFSETFROM:-0400
TZOFFSETTO:-0500
TZNAME:EST
DTSTART:20191103T060000
END:STANDARD
END:VTIMEZONE
BEGIN:VEVENT
DTSTART;VALUE=DATE:20190905
DTEND;VALUE=DATE:20190906
DTSTAMP:20210401T080903
CREATED:20190904T100539Z
LAST-MODIFIED:20190904T100539Z
UID:172738-1567641600-1567727999@www.patriotguard.org
SUMMARY:Randall Golden
DESCRIPTION:Honor Mission\nRandall Golden\, Veteran\nUSA – Vietnam\nSapulpa\, Oklahoma – 09-05-19\n\n\n\nABOUT THE MISSION: \nThe family of US Army Veteran SP4 Golden has asked the PGR to stand a Flag line at his services at 10:00 AM.\n\n\nPRIMARY STAGING DETAILS: 09-05-19 \nStaging Time: 09:00 AM\n \nGreen Hill Cemetery Veterans Memorial Shelter\n400 E. Teel\nSapulpa\, Oklahoma 74066\n\n\nRide Captain: \nTom Pope\n918.740.1026\ntom-pope@sbcglobal.net\n\n\nSpecial Instructions: \nBriefing 9:15 am\nVFW Dist #5 will perform military honors\n\n\nFlags & Water:\nFlags will be provided\nLarge Bike Flags will NOT be needed.\nWater WILL NOT be provided\, please bring your own.\n\n\n\nSubmitted By: Tom Pope \nPosition: Oklahoma Ride Captain \n\nNote: You do not have to own/ride a motorcycle or be a veteran to join\, and membership is Free. The only requirement is RESPECT! To subscribe to receive mission notices\, log into the National Site and click on the Members tab at the top. Select the Subscribe to PGR Missions option.\n Print This Page
URL:https://www.patriotguard.org/mission/randall-golden/
CATEGORIES:Honor Mission
END:VEVENT
END:VCALENDAR