BEGIN:VCALENDAR
VERSION:2.0
PRODID:-//Patriot Guard Riders - ECPv5.6.0//NONSGML v1.0//EN
CALSCALE:GREGORIAN
METHOD:PUBLISH
X-WR-CALNAME:Patriot Guard Riders
X-ORIGINAL-URL:https://www.patriotguard.org
X-WR-CALDESC:Events for Patriot Guard Riders
BEGIN:VTIMEZONE
TZID:America/New_York
BEGIN:DAYLIGHT
TZOFFSETFROM:-0500
TZOFFSETTO:-0400
TZNAME:EDT
DTSTART:20160313T070000
END:DAYLIGHT
BEGIN:STANDARD
TZOFFSETFROM:-0400
TZOFFSETTO:-0500
TZNAME:EST
DTSTART:20161106T060000
END:STANDARD
END:VTIMEZONE
BEGIN:VEVENT
DTSTART;TZID=America/New_York:20160722T090000
DTEND;TZID=America/New_York:20160722T110000
DTSTAMP:20210512T170628
CREATED:20160722T130000Z
LAST-MODIFIED:20191201T144209Z
UID:410473-1469178000-1469185200@www.patriotguard.org
SUMMARY:Randall Ezell
DESCRIPTION:The family of Randall Ezell has requested that the Patriot Guard provide escort for their loved one in honor of his service to this Great Nation. \nRandy\, as he was known to family and friends\, served proudly with the US Air Force from Nov 1978 until his honorable discharge in July 1980.  Randy attained the rank of Airman (E-2).  We will provide escort to the hollowed grounds of Jefferson Barracks National Cemetery for his final interment. \nFUNERAL SERVICE \nDate:  Fri\, 22 July 16\nTime:  1130 hrs (11:30am) \nPlace:\nIrwin Chapel\n3960 Maryville Rd\nGranite City\, IL \nStaging:  1015 hrs (10:15am) at the funeral home. \nLine up for escort as per RC instructions. \nFlag line in place prior to family arrival at 10:30am. \nAt the conclusion of the funeral service we will escort family and friends to Jefferson Barracks National Cemetery for Randy’s interment. \nHYDRATE\, HYDRATE\, HYDRATE…temps are forecast to be near 100 deg’s. \nSRC\nTerry Spurgeon\n(618-830-3262) \nRC\nFred Smith (w/flag support & water)
URL:https://www.patriotguard.org/mission/randall-ezell/
CATEGORIES:Archive
END:VEVENT
END:VCALENDAR