BEGIN:VCALENDAR
VERSION:2.0
PRODID:-//Patriot Guard Riders - ECPv5.3.2.1//NONSGML v1.0//EN
CALSCALE:GREGORIAN
METHOD:PUBLISH
X-WR-CALNAME:Patriot Guard Riders
X-ORIGINAL-URL:https://www.patriotguard.org
X-WR-CALDESC:Events for Patriot Guard Riders
BEGIN:VTIMEZONE
TZID:America/New_York
BEGIN:DAYLIGHT
TZOFFSETFROM:-0500
TZOFFSETTO:-0400
TZNAME:EDT
DTSTART:20190310T070000
END:DAYLIGHT
BEGIN:STANDARD
TZOFFSETFROM:-0400
TZOFFSETTO:-0500
TZNAME:EST
DTSTART:20191103T060000
END:STANDARD
END:VTIMEZONE
BEGIN:VEVENT
DTSTART;VALUE=DATE:20190601
DTEND;VALUE=DATE:20190602
DTSTAMP:20210405T141327
CREATED:20190531T015231Z
LAST-MODIFIED:20190531T015231Z
UID:163162-1559347200-1559433599@www.patriotguard.org
SUMMARY:Ramzi (Ray) Ladkani
DESCRIPTION:Honor Mission\nRamzi (Ray) Ladkani\, Veteran\nUSA – Vietnam\nMonroe\, North Carolina – 06-01-19\n\n\n\nABOUT THE MISSION: \nPatriots\, the family of Ramzi (Ray) Ladkani\, U.S. Army veteran\, has requested our presence for his visitation & Memorial service. Mr. Ladkani served with the United States Army in Vietnam. During his service for our country he earned the rank of Specialist 4 and also earned the Republic of Vietnam Campaign Medal\, Vietnamese Service Medal & the National Defense Service Medal. Please join us honoring this American Hero.\nObituary\n\n\nPRIMARY STAGING DETAILS: 06-01-19 \nStaging Time: 1:45 PM\n \nLakeview Baptist Church\n4602 Concord Hwy\nMonroe\, North Carolina\nMap\n\n\nRide Captain: \nCw “Snapshot” Smith\n704-690-3119\ncws68@yahoo.com\n\n\nSpecial Instructions: \nBriefing: 1:55 pm\nWe will stand a flag line after briefing for the arrival of Mr. Ladkani’s family and friends till 3:45 pm when service starts.\nThen prepare to escort Mr. Ladkani into the church cemetery where interment with military honors will be received.\n\n\nFlags & Water:\nFlags will be provided\nIf you have large bike flags\, please bring them.\nWater will be provided.\n\n\n\nSubmitted By: cw smith \nPosition: North Carolina Ride Captain \n\nNote: You do not have to own/ride a motorcycle or be a veteran to join\, and membership is Free. The only requirement is RESPECT! To subscribe to receive mission notices\, log into the National Site and click on the Members tab at the top. Select the Subscribe to PGR Missions option.\n Print This Page
URL:https://www.patriotguard.org/mission/ramzi-ray-ladkani/
CATEGORIES:Honor Mission
END:VEVENT
END:VCALENDAR