BEGIN:VCALENDAR
VERSION:2.0
PRODID:-//Patriot Guard Riders - ECPv5.3.2.1//NONSGML v1.0//EN
CALSCALE:GREGORIAN
METHOD:PUBLISH
X-WR-CALNAME:Patriot Guard Riders
X-ORIGINAL-URL:https://www.patriotguard.org
X-WR-CALDESC:Events for Patriot Guard Riders
BEGIN:VTIMEZONE
TZID:America/New_York
BEGIN:DAYLIGHT
TZOFFSETFROM:-0500
TZOFFSETTO:-0400
TZNAME:EDT
DTSTART:20190310T070000
END:DAYLIGHT
BEGIN:STANDARD
TZOFFSETFROM:-0400
TZOFFSETTO:-0500
TZNAME:EST
DTSTART:20191103T060000
END:STANDARD
END:VTIMEZONE
BEGIN:VEVENT
DTSTART;VALUE=DATE:20190701
DTEND;VALUE=DATE:20190702
DTSTAMP:20210404T065808
CREATED:20190626T224302Z
LAST-MODIFIED:20190626T225139Z
UID:165982-1561939200-1562025599@www.patriotguard.org
SUMMARY:Ramona Ruth Gibbons
DESCRIPTION:Honor Mission\nRamona Ruth Gibbons\, Veteran\nUSCG\, USCGR\, SPAR – WWII\nPensacola\, Florida – 07-01-19\n\n\n \n\nABOUT THE MISSION: \nThe family of S1C Ramona Ruth Gibbons has asked the Patriot Guard to stand in her honor and to escort her to Barrancas National Cemetery for final Honors. S1C Gibbons joined the U. S. Coast Guard on Dec. 12\, 1943\, and served until Feb 1945. During her service\, she was awarded the WWII Victory Medal and the American Theater of Operations.\nS1C Gibbons will be escorted to Barrancas National Cemetery for interment and honors at 9:30 AM. LEO escort will be provided.\n\n\nPRIMARY STAGING DETAILS: 07-01-19 \nStaging Time: 7:15 AM  \nMcDonald’s\n815 E. Cervantes\nPensacola\, Florida\n\n\nRide Captain: \nRoy Pippin\n251-979-7241\nSmokeynal.rp@gmail.com\n\n\nSpecial Instructions: \nNaval Air Station requires that you ride with long sleeve shirts\, long trousers\, long-fingered gloves\, DOT approved helmets\, leather footwear covering the ankles and appropriate eye protection. This attire will always be maintained while riding aboard the base.\n\n8:00 AM – Safety briefing all riders\n8:15 AM – KSU to Joe Morris Funeral Home\, 701 DeVilliers St.\, Pensacola\, Fl.\n9:00 AM – KSU escort to Barrancas Nation Cemetery\n9:30 AM – Honors at Site B\n\n\nFlags & Water:\nFlags will be provided.\nIf you have large bike flags\, please bring them.\nWater will be provided.\n\n\n\nSubmitted By: Ray Doyle \nPosition: Florida Assistant State Captain \n\nNote: You do not have to own/ride a motorcycle or be a veteran to join\, and membership is Free. The only requirement is RESPECT! To subscribe to receive mission notices\, log into the National Site and click on the Members tab at the top. Select the Subscribe to PGR Missions option.\n Print This Page
URL:https://www.patriotguard.org/mission/ramona-ruth-gibbons/
CATEGORIES:Honor Mission
END:VEVENT
END:VCALENDAR