BEGIN:VCALENDAR
VERSION:2.0
PRODID:-//Patriot Guard Riders - ECPv5.6.0//NONSGML v1.0//EN
CALSCALE:GREGORIAN
METHOD:PUBLISH
X-WR-CALNAME:Patriot Guard Riders
X-ORIGINAL-URL:https://www.patriotguard.org
X-WR-CALDESC:Events for Patriot Guard Riders
BEGIN:VTIMEZONE
TZID:America/New_York
BEGIN:DAYLIGHT
TZOFFSETFROM:-0500
TZOFFSETTO:-0400
TZNAME:EDT
DTSTART:20160313T070000
END:DAYLIGHT
BEGIN:STANDARD
TZOFFSETFROM:-0400
TZOFFSETTO:-0500
TZNAME:EST
DTSTART:20161106T060000
END:STANDARD
END:VTIMEZONE
BEGIN:VEVENT
DTSTART;TZID=America/New_York:20160616T090000
DTEND;TZID=America/New_York:20160616T110000
DTSTAMP:20210513T151027
CREATED:20160616T130000Z
LAST-MODIFIED:20191201T145033Z
UID:411238-1466067600-1466074800@www.patriotguard.org
SUMMARY:Ramon Velazquez Quinones\, USA
DESCRIPTION:Please note that due to ongoing OPSEC concerns\, mission details are not shown in this posting. All specific details and updates have been sent to members directly via their e-mail address on file. \nMembers: \nThe Patriot Guard Riders have been invited to stand in Honor of Ramon Velazquez Quinones\,  United States  Army\, Korean War Veteran. \nWhen/Where:\nThursday\, June 16\, 2016 \nRochester\, NY \nLRC:\nSteve Ford \nPlease Stage directly at the church when you can and stay for as long as you are able. Steve Ford will be LRC until I can relieve him. \nDue to the numerous missions already scheduled\, we are unable to fulfill the entire request that includes Friday service and escort to cemetery. Any experienced member who would like to volunteer for Friday’s service please contact me directly for possible assignment. \n—\nNigel Heaton\nnigelvh@aol.com
URL:https://www.patriotguard.org/mission/ramon-velazquez-quinones-usa/
CATEGORIES:Archive
END:VEVENT
END:VCALENDAR