BEGIN:VCALENDAR
VERSION:2.0
PRODID:-//Patriot Guard Riders - ECPv5.3.2.1//NONSGML v1.0//EN
CALSCALE:GREGORIAN
METHOD:PUBLISH
X-WR-CALNAME:Patriot Guard Riders
X-ORIGINAL-URL:https://www.patriotguard.org
X-WR-CALDESC:Events for Patriot Guard Riders
BEGIN:VTIMEZONE
TZID:America/New_York
BEGIN:DAYLIGHT
TZOFFSETFROM:-0500
TZOFFSETTO:-0400
TZNAME:EDT
DTSTART:20170312T070000
END:DAYLIGHT
BEGIN:STANDARD
TZOFFSETFROM:-0400
TZOFFSETTO:-0500
TZNAME:EST
DTSTART:20171105T060000
END:STANDARD
END:VTIMEZONE
BEGIN:VEVENT
DTSTART;TZID=America/New_York:20170524T091500
DTEND;TZID=America/New_York:20170524T111500
DTSTAMP:20210403T062541
CREATED:20170524T131500Z
LAST-MODIFIED:20191201T033500Z
UID:335982-1495617300-1495624500@www.patriotguard.org
SUMMARY:Ralph S. Page\, Veteran\, USN
DESCRIPTION:Ralph S. Page\, Veteran \nUSN \nCalverton\, New York – 24 May 2017\n\n[HR][/HR]\nABOUT THE MISSION: \nRiders & Patriots: We have been requested by DeFriest – Gratten Funeral Home\, 51400 Main Road\, Southold\, NY to stand for Ralph S. Page \, US Navy veteran. The cremains of this veteran were discovered in a house being cleaned out by some people and they brought them to the funeral home which is providing a proper resting place. \n\nPRIMARY STAGING DETAILS: 24 May 2017 \n \nPrimary Staging Time: 9:15 A.M.\n\nCalverton National Cemetery\n210 Princeton Blvd.\n\nCalverton\, New York –\n\n\n\n \nRide Captain:\n\nGene & Sue\n\n \nSpecial Instructions:\n\nPlease remember to bring your flags and let us honor this veteran as we are standing as his family.\nThere is no escort at this time but watch for updates. \nGene & Sue at Calverton at 9:30am\n\n \nFlags & Water:\n\nFlags Will NOT Be Provided\, Please Bring Your Own.\n\nIf you have large bike flags\, please bring them.\n\nWater WILL NOT be provided\, please bring your own.\n\n\nSubmitted By: Ray Sestak\nPosition: Ride Captain \n[HR][/HR]\nNote:\nYou do not have to own/ride a motorcycle or be a Veteran to join and membership is Free. The only requirement is RESPECT! To join\, simply go to www.PatriotGuard.org and click on Register. Membership is Free. \nTo subscribe to receive mission notices\, log into the National Site and click on the Mission Tab at the top. Select Upcoming Missions by State. Scroll to the state(s) you would like to receive notices for and click on the green check mark. Detailed instructions are also located in the FAQs on the site by clicking on the Quick Links Tab and selecting FAQs.
URL:https://www.patriotguard.org/mission/ralph-s-page-veteran-usn/
LOCATION:Michael Visek
END:VEVENT
END:VCALENDAR