BEGIN:VCALENDAR
VERSION:2.0
PRODID:-//Patriot Guard Riders - ECPv5.3.2.1//NONSGML v1.0//EN
CALSCALE:GREGORIAN
METHOD:PUBLISH
X-WR-CALNAME:Patriot Guard Riders
X-ORIGINAL-URL:https://www.patriotguard.org
X-WR-CALDESC:Events for Patriot Guard Riders
BEGIN:VTIMEZONE
TZID:America/New_York
BEGIN:DAYLIGHT
TZOFFSETFROM:-0500
TZOFFSETTO:-0400
TZNAME:EDT
DTSTART:20170312T070000
END:DAYLIGHT
BEGIN:STANDARD
TZOFFSETFROM:-0400
TZOFFSETTO:-0500
TZNAME:EST
DTSTART:20171105T060000
END:STANDARD
END:VTIMEZONE
BEGIN:VEVENT
DTSTART;TZID=America/New_York:20170724T134500
DTEND;TZID=America/New_York:20170724T154500
DTSTAMP:20210404T154756
CREATED:20170724T174500Z
LAST-MODIFIED:20191201T033429Z
UID:335626-1500903900-1500911100@www.patriotguard.org
SUMMARY:Ralph Multari\, Veteran\, USA - Vietnam
DESCRIPTION:Ralph Multari\, Veteran \nUSA – Vietnam \nSelden\, New York – 24 Jul 2017\n\n[HR][/HR]\nABOUT THE MISSION: \nA Vietnam veteran who has battled many illnesses since returning home. Brother to PGR member James ” Bones”. \nPRIMARY STAGING DETAILS: 24 Jul 2017 \n \nPrimary Staging Time: 1:45 P.M.\n\nGiove Funeral Home\n1000 Middle Country Rd.\n\nSelden\, New York – 11784\n\n\n\n \n\nRide Captain:\n\nWarren Schlicker\npgr11755@aol.com\n\n \nSpecial Instructions:\n\nViewings are 2-4 & 7-9:30 Monday & Tuesday. RC Karen Wirth will assist with honor line. Honor this veteran for any time you can.\n\n \nFlags & Water:\n\nFlags Will NOT Be Provided\, Please Bring Your Own.\n\nIf you have large bike flags\, please bring them.\n\nWater WILL NOT be provided\, please bring your own.\n\n[HR][/HR]\nSTAGING #2 DETAILS: 25 Jul\, 2017 \n \nStaging #2 Time: 1:45 P.M.\n\nGiove Funeral Home\n1000 Middle Country Rd.\n\nSelden\, New York – 11784\n\n\n\n \nRide Captain:\n\nRichard Schiraldi\nsandw380@optonline.net 516-813-8025\n\n \n\nSpecial Instructions:\n\nViewings are 2-4 & 7-9:30 Monday & Tuesday. RC Karen Wirth will assist with honor line. Honor this veteran for any time you can.\n\n \nFlags & Water:\n\nFlags Will NOT Be Provided\, Please Bring Your Own.\n\nLarge Bike Flags will be needed\n\nWater WILL NOT be provided\, please bring your own.\n\n\n[HR][/HR]\nSTAGING #3 DETAILS: 26 Jul\, 2017 \n \nStaging #3 Time: 9:30 A.M.\n\nGiove Funeral Home\n1000 Middle Country Rd.\n\nSelden\, New York – 11784\n\n\n\n \nRide Captain:\n\nRichard Schiraldi\nsandw380@optonline.net\n516-813-8025\n\n \n\nSpecial Instructions:\n\nFlag line for dignified transfer and escort to Calverton National cemetery Eta 10:30am. Members may respond directly to Calverton with RCs Gene & Sue at 10 am\n\n \nFlags & Water:\n\nFlags Will NOT Be Provided\, Please Bring Your Own.\n\nLarge Bike Flags will be needed\n\nWater WILL NOT be provided\, please bring your own.\n\n\nSubmitted By: Ray Sestak\nPosition: Ride Captain \n[HR][/HR]\nNote:\nYou do not have to own/ride a motorcycle or be a Veteran to join and membership is Free. The only requirement is RESPECT! To join\, simply go to www.PatriotGuard.org and click on Register. Membership is Free. \nTo subscribe to receive mission notices\, log into the National Site and click on the Mission Tab at the top. Select Upcoming Missions by State. Scroll to the state(s) you would like to receive notices for and click on the green check mark. Detailed instructions are also located in the FAQs on the site by clicking on the Quick Links Tab and selecting FAQs.
URL:https://www.patriotguard.org/mission/ralph-multari-veteran-usa-vietnam/
LOCATION:Andrew Jensen
END:VEVENT
END:VCALENDAR