BEGIN:VCALENDAR
VERSION:2.0
PRODID:-//Patriot Guard Riders - ECPv5.3.2.1//NONSGML v1.0//EN
CALSCALE:GREGORIAN
METHOD:PUBLISH
X-WR-CALNAME:Patriot Guard Riders
X-ORIGINAL-URL:https://www.patriotguard.org
X-WR-CALDESC:Events for Patriot Guard Riders
BEGIN:VTIMEZONE
TZID:America/New_York
BEGIN:DAYLIGHT
TZOFFSETFROM:-0500
TZOFFSETTO:-0400
TZNAME:EDT
DTSTART:20190310T070000
END:DAYLIGHT
BEGIN:STANDARD
TZOFFSETFROM:-0400
TZOFFSETTO:-0500
TZNAME:EST
DTSTART:20191103T060000
END:STANDARD
END:VTIMEZONE
BEGIN:VEVENT
DTSTART;VALUE=DATE:20190628
DTEND;VALUE=DATE:20190629
DTSTAMP:20210405T010832
CREATED:20190626T170327Z
LAST-MODIFIED:20190626T170327Z
UID:165844-1561680000-1561766399@www.patriotguard.org
SUMMARY:Ralph Benjamin Carney
DESCRIPTION:Honor Mission\nRalph Benjamin Carney\, Veteran\nUSA –\nTioga\, Texas – 06-28-19\n\n\n\nABOUT THE MISSION: \nRalph Benjamin Carney honorably served in the United States Army from March 22\, 1957 until March 2\, 1959. Most of his service time was in Hawaii.\n\n\nPRIMARY STAGING DETAILS: 06-28-19 \nStaging Time: 09:40 AM\n \nTioga United Methodist Church\n301 N. Porch St.\nTioga\, Texas 76271\n\n\nRide Captain: \nKen Hammock\nken2003hdrk@gmail.com\n(918) 289-4749\n\n\nSpecial Instructions: \nStaging Time: 09:40\nBriefing Time: 09:55\nIn Position/KSU Time: 10:10\nStarting Time: 10:15\nPGR will stage at the church and participate in a briefing. We will then stand the flag line as family and friends arrive. Once the service starts at 11:00 am\, we will return flags to the support vehicle. After the post mission briefing\, we will be dismissed. A burial service will take place at a later date.\n\n\nFlags & Water:\nFlags will be provided\nLarge Bike Flags will NOT be needed.\nWater will be provided.\n\n\n\nSubmitted By: Dan Mathys \nPosition: Texas Ride Captain \n\nNote: You do not have to own/ride a motorcycle or be a veteran to join\, and membership is Free. The only requirement is RESPECT! To subscribe to receive mission notices\, log into the National Site and click on the Members tab at the top. Select the Subscribe to PGR Missions option.\n Print This Page
URL:https://www.patriotguard.org/mission/ralph-benjamin-carney/
CATEGORIES:Honor Mission
END:VEVENT
END:VCALENDAR