BEGIN:VCALENDAR
VERSION:2.0
PRODID:-//Patriot Guard Riders - ECPv5.3.2.1//NONSGML v1.0//EN
CALSCALE:GREGORIAN
METHOD:PUBLISH
X-WR-CALNAME:Patriot Guard Riders
X-ORIGINAL-URL:https://www.patriotguard.org
X-WR-CALDESC:Events for Patriot Guard Riders
BEGIN:VTIMEZONE
TZID:America/New_York
BEGIN:DAYLIGHT
TZOFFSETFROM:-0500
TZOFFSETTO:-0400
TZNAME:EDT
DTSTART:20190310T070000
END:DAYLIGHT
BEGIN:STANDARD
TZOFFSETFROM:-0400
TZOFFSETTO:-0500
TZNAME:EST
DTSTART:20191103T060000
END:STANDARD
END:VTIMEZONE
BEGIN:VEVENT
DTSTART;VALUE=DATE:20190607
DTEND;VALUE=DATE:20190608
DTSTAMP:20210405T141528
CREATED:20190605T041723Z
LAST-MODIFIED:20190605T041923Z
UID:163710-1559865600-1559951999@www.patriotguard.org
SUMMARY:Ralph A. Neighbors
DESCRIPTION:Honor Mission\nRalph A. Neighbors\, Veteran\nUSA\, USAR –\nGlendale\, Arizona – 06-07-19\n\n\n\n\nABOUT THE MISSION: \nRalph A. Neighbors served our nation honorably in the United States Army from 1954 – 1956 and the USAR from 1956 – 1962. Ralph was a Military Policeman in the 25th MP Company stationed at Schofield Barracks in HI. He was awarded the Good Conduct Medal.\n\n\nPRIMARY STAGING DETAILS: 06-07-19 \nStaging Time: 10:30  \nWest Resthaven Funeral Home and Resthaven Park Cemetery\n6450 W Northern Ave\nGlendale\, Arizona 85301\n\n\nRide Captain: \nDan Lazear\n480-223-8628\nazpgrdan@gmail.com\n\nFlag Captain: Karen Swanson\n\n\nSpecial Instructions: \nService will be in progress\, please arrive quietly.\nCircle of Honor: 11:00 A.M.\nMilitary Honors: 11:15 A.M.\n\nNote: Following the Circle of Honor the PGR Honor Flag Bikes will lead our hero to his final resting place. The family will walk to the final resting location as it is a very short distance away.\n\n\nFlags & Water:\nFlags will be provided\nIf you have large bike flags\, please bring them.\nWater will be provided.\n\nSubmitted By: David Murphy \nPosition: Arizona Assistant State Captain \n\nNote: You do not have to own/ride a motorcycle or be a veteran to join\, and membership is Free. The only requirement is RESPECT! To subscribe to receive mission notices\, log into the National Site and click on the Members tab at the top. Select the Subscribe to PGR Missions option.\n Print This Page
URL:https://www.patriotguard.org/mission/ralph-a-neighbors/
CATEGORIES:Honor Mission
END:VEVENT
END:VCALENDAR