BEGIN:VCALENDAR
VERSION:2.0
PRODID:-//Patriot Guard Riders - ECPv5.3.2.1//NONSGML v1.0//EN
CALSCALE:GREGORIAN
METHOD:PUBLISH
X-WR-CALNAME:Patriot Guard Riders
X-ORIGINAL-URL:https://www.patriotguard.org
X-WR-CALDESC:Events for Patriot Guard Riders
BEGIN:VTIMEZONE
TZID:America/New_York
BEGIN:DAYLIGHT
TZOFFSETFROM:-0500
TZOFFSETTO:-0400
TZNAME:EDT
DTSTART:20190310T070000
END:DAYLIGHT
BEGIN:STANDARD
TZOFFSETFROM:-0400
TZOFFSETTO:-0500
TZNAME:EST
DTSTART:20191103T060000
END:STANDARD
END:VTIMEZONE
BEGIN:VEVENT
DTSTART;VALUE=DATE:20190613
DTEND;VALUE=DATE:20190614
DTSTAMP:20210405T033902
CREATED:20190611T002429Z
LAST-MODIFIED:20190611T002429Z
UID:163992-1560384000-1560470399@www.patriotguard.org
SUMMARY:Rafael Gerard Aragon
DESCRIPTION:Honor Mission\nRafael Gerard Aragon\, Retired\nUSN\nAlamogordo\, New Mexico – 06-13-19\n\n\n\n\nABOUT THE MISSION: \nFifty-eight year old retired Navy Veteran Rafael Gerard Aragon served his country honorably for 20 years\, retiring on 30 September 2003 with the rank of Yeoman First Class (E6). One year of his career was sea service. During his military career he earned the following awards/decorations: 2-National Defense Service Medals\, Joint Service Commendation Medal\, 5-Good Conduct Awards\, 7-Sea Service Deployment Ribbons\, 2-Navy “E” Ribbons\, Navy Marksmanship Ribbon and 3-Navy and Marine Corps Achievement Medals.\nThe family of YN1 Aragon has requested the PGR to help honor his life and service career at his funeral service and interment.\n\n\nPRIMARY STAGING DETAILS: 06-13-19 \nStaging Time: 0845 hrs\n \nKent Kwik Texaco Truck Stop\n3500 North White Sands Boulevard(across from Lowe’s Home Improvement Center)\nAlamogordo\, New Mexico 88310\n\n\nRide Captain: \nJim “Deacon Jim” Ernst\njimernst@q.com\n(575) 430-3904\n\n\nSpecial Instructions: \nThe PGR was requested to stand a flag line at St Francis de Paula Catholic Church\, 303 Encino Street\, Tularosa\, NM while family and friends arrive for Rafael’s funeral service. \nFollowing the service we will escort the procession to Sacred Heart Cemetery\, Fairview Road\, Tularosa\, NM and stand a flag line during his interment service. The U.S. Navy has been requested provide Military Honors. \nWe will stage at the truck stop at 0845 hrs.\nBrief at 0900 hrs\nKSU for Tularosa at 0910 hrs\nA flag line will be established in front of the church at 0930 hrs until the start of the funeral service.\nFollowing the service\, we will escort to the cemetery and stand a flag line during the interment service.\n\n\nFlags & Water:\nFlags will be provided\nIf you have large bike flags\, please bring them.\nWater will be provided.\n\n\n\nSubmitted By: Jim Ernst \nPosition: New Mexico State Captain \n\nNote: You do not have to own/ride a motorcycle or be a veteran to join\, and membership is Free. The only requirement is RESPECT! To subscribe to receive mission notices\, log into the National Site and click on the Members tab at the top. Select the Subscribe to PGR Missions option.\n Print This Page
URL:https://www.patriotguard.org/mission/rafael-gerard-aragon/
CATEGORIES:Honor Mission
END:VEVENT
END:VCALENDAR