BEGIN:VCALENDAR
VERSION:2.0
PRODID:-//Patriot Guard Riders - ECPv5.6.0//NONSGML v1.0//EN
CALSCALE:GREGORIAN
METHOD:PUBLISH
X-WR-CALNAME:Patriot Guard Riders
X-ORIGINAL-URL:https://www.patriotguard.org
X-WR-CALDESC:Events for Patriot Guard Riders
BEGIN:VTIMEZONE
TZID:America/New_York
BEGIN:DAYLIGHT
TZOFFSETFROM:-0500
TZOFFSETTO:-0400
TZNAME:EDT
DTSTART:20160313T070000
END:DAYLIGHT
BEGIN:STANDARD
TZOFFSETFROM:-0400
TZOFFSETTO:-0500
TZNAME:EST
DTSTART:20161106T060000
END:STANDARD
END:VTIMEZONE
BEGIN:VEVENT
DTSTART;TZID=America/New_York:20160602T090000
DTEND;TZID=America/New_York:20160602T110000
DTSTAMP:20210513T082915
CREATED:20160602T130000Z
LAST-MODIFIED:20191201T145520Z
UID:411671-1464858000-1464865200@www.patriotguard.org
SUMMARY:R. L. Hicks\, USA
DESCRIPTION:The family of Mr. R. L. Hicks has requested the Patriot Guard to honor the life and U.S. Army service of their loved one. We are proud to be able to fulfill that request.\n\nMr. Hicks served from 1952 – 1954 including service in the Korean War. His is a Purple Heart recipient.\n\nAt the conclusion of the funeral service we will escort Mr. Hicks to his final resting place at a local cemetery with LEO support.\n\nStaging:\n\n1215 (12:15 PM)\n\nHunter-Allen-Myhand Funeral Home\n506 Hill Street\nLa Grange\, GA 30241\n\nRCIC:\nJoe “Mack” McGuigan\njoemackusmc@gmail.com\n678-548-1595
URL:https://www.patriotguard.org/mission/r-l-hicks-usa/
CATEGORIES:Archive
END:VEVENT
END:VCALENDAR