BEGIN:VCALENDAR
VERSION:2.0
PRODID:-//Patriot Guard Riders - ECPv5.6.0//NONSGML v1.0//EN
CALSCALE:GREGORIAN
METHOD:PUBLISH
X-WR-CALNAME:Patriot Guard Riders
X-ORIGINAL-URL:https://www.patriotguard.org
X-WR-CALDESC:Events for Patriot Guard Riders
BEGIN:VTIMEZONE
TZID:America/New_York
BEGIN:DAYLIGHT
TZOFFSETFROM:-0500
TZOFFSETTO:-0400
TZNAME:EDT
DTSTART:20160313T070000
END:DAYLIGHT
BEGIN:STANDARD
TZOFFSETFROM:-0400
TZOFFSETTO:-0500
TZNAME:EST
DTSTART:20161106T060000
END:STANDARD
END:VTIMEZONE
BEGIN:VEVENT
DTSTART;TZID=America/New_York:20160617T090000
DTEND;TZID=America/New_York:20160617T110000
DTSTAMP:20210513T172622
CREATED:20160617T130000Z
LAST-MODIFIED:20191201T145121Z
UID:411312-1466154000-1466161200@www.patriotguard.org
SUMMARY:R.D. Poole
DESCRIPTION:AIC. R.D. Poole\nU.S. Air Force\nAlabama State Veterans Memorial Cemetery Spanish Fort\, AL\nFriday\, 17 June 2016\n\n\n\nFellow Riders\,\nIt is with heavy heart that I must inform you that America has lost another True American Hero. The family of AIC Poole 77 year old who passed away on 11 June 2016 has requested the Patriot Guard to stand in honor of their loved one. \nAIC Poole served in the U.S. Air Force for 4 years he was awarded the Air Good Conduct Medal and was Honorably Discharged.  There will be funeral services on Friday 17 June 2016 at 1000 hrs. at Reese Funeral Home.  Interment will follow at Alabama State Veterans Memorial Cemetery at 1230. The Patriot Guard will escort AIC Poole after the service to the cemetery. \nPlease bring water to stay hydrated especially in our extreme heat. \nVisitation:  17 June 2016 0900 – 1000 hrs at Reese Funeral Home in Prichard\, Al. \nFuneral Service: 17 June 2016 1000 hrs at Reese Funeral Home. \nInterment:  Interment will follow the service at Alabama State Veterans Memorial Cemetery at Spanish Fort\, Al \nSTAGING INFO:\nMobile & Baldwin County Staging:\nLocation: Parking Lot (Intersection Hwy 45 & I-65) under big oak \nTime – 0800 hrs\nBriefing: 0815 hrs\nKSU: 0830 hrs\nRCIC: Phil Brown\, RC – (251) 402-0720 \nFlags Supplied by: Phil Brown \nHonor Guard: Yes \nEscort: yes \nAIC Poole stood for us many a hard day and night so that we might be safe and free— Now it is our turn to stand for him.
URL:https://www.patriotguard.org/mission/r-d-poole/
CATEGORIES:Archive
END:VEVENT
END:VCALENDAR