BEGIN:VCALENDAR
VERSION:2.0
PRODID:-//Patriot Guard Riders - ECPv5.3.2.1//NONSGML v1.0//EN
CALSCALE:GREGORIAN
METHOD:PUBLISH
X-WR-CALNAME:Patriot Guard Riders
X-ORIGINAL-URL:https://www.patriotguard.org
X-WR-CALDESC:Events for Patriot Guard Riders
BEGIN:VTIMEZONE
TZID:America/New_York
BEGIN:DAYLIGHT
TZOFFSETFROM:-0500
TZOFFSETTO:-0400
TZNAME:EDT
DTSTART:20190310T070000
END:DAYLIGHT
BEGIN:STANDARD
TZOFFSETFROM:-0400
TZOFFSETTO:-0500
TZNAME:EST
DTSTART:20191103T060000
END:STANDARD
END:VTIMEZONE
BEGIN:VEVENT
DTSTART;VALUE=DATE:20190813
DTEND;VALUE=DATE:20190814
DTSTAMP:20210402T093245
CREATED:20190811T032337Z
LAST-MODIFIED:20190811T032337Z
UID:169559-1565654400-1565740799@www.patriotguard.org
SUMMARY:R. Bruce Welder
DESCRIPTION:Honor Mission\nR. Bruce Welder\, Veteran\nUSAF –\nMaple Valley\, Washington – 08-13-19\n\n\n\nABOUT THE MISSION: \nLadies and Gentleman of the Patriot Guard Riders\, we have been invited by the family of Staff Sergeant Ralph Bruce Welder to stand a flag line for his final military honors. Bruce served in the United States Air Force from 1966-1970. He served mostly stateside as a electrical technician working on the F-106 Delta Dart. Following his service he attended Michigan State University and became an Electrical Engineer for Boeing where he retired. Bruce was an active member of American Legion Post 19 in Renton and also was an avid Harley rider and a member of the Legion Riders. Bruce is survived by his brother and his nephew. And his brother also served in the US Army. Unfortunately they live in Alabama and will not be able to make it to the service. Legion Post 19 and the PGR will be his family. Please join us to stand for this American Hero\, fellow rider and supporter of Veterans.\n\n\nPRIMARY STAGING DETAILS: 08-13-19 \nStaging Time: 10:15 AM\n \nMcDonald’s\n23225 Maple Valley Black Diamond Hwy\nMaple Valley\, Washington 98038\n\n\nRide Captain: \nRC – Sabrina “Mother Hen” Brown\npgrmotherhen@gmail.com\,\n206-369-1434\n\nRCiT: Erik “Big E” Eisenberg (point) Lj45flight@yahoo.com\, 360-224-89982\nSV – CathyLee “Hotwheelz” Ryan\, Hotwheelz65@gmail.com\, 206-380-9429\n\n\nSpecial Instructions: \nSchedule: 1000- RC\, RCIT\, SV arrive.\n10:15 – Riders arrive\, sign in.\n10:45 – Mission briefing.\n11:00 – KSU for location.\n11:15 – flag line in place.\n11:30 – service begins.\n12:00 – End of service\, fade away and debrief.\nPlease check weather prior to mission. Cages always welcome.\n\n\nFlags & Water:\nFlags will be provided\nLarge Bike Flags will NOT be needed.\nWater will be provided.\n\n\n\nSubmitted By: Sabrina Brown \nPosition: Washington State Captain \n\nNote: You do not have to own/ride a motorcycle or be a veteran to join\, and membership is Free. The only requirement is RESPECT! To subscribe to receive mission notices\, log into the National Site and click on the Members tab at the top. Select the Subscribe to PGR Missions option.\n Print This Page
URL:https://www.patriotguard.org/mission/r-bruce-welder/
CATEGORIES:Honor Mission
END:VEVENT
END:VCALENDAR