BEGIN:VCALENDAR
VERSION:2.0
PRODID:-//Patriot Guard Riders - ECPv5.3.2.1//NONSGML v1.0//EN
CALSCALE:GREGORIAN
METHOD:PUBLISH
X-WR-CALNAME:Patriot Guard Riders
X-ORIGINAL-URL:https://www.patriotguard.org
X-WR-CALDESC:Events for Patriot Guard Riders
BEGIN:VTIMEZONE
TZID:America/New_York
BEGIN:DAYLIGHT
TZOFFSETFROM:-0500
TZOFFSETTO:-0400
TZNAME:EDT
DTSTART:20190310T070000
END:DAYLIGHT
BEGIN:STANDARD
TZOFFSETFROM:-0400
TZOFFSETTO:-0500
TZNAME:EST
DTSTART:20191103T060000
END:STANDARD
END:VTIMEZONE
BEGIN:VEVENT
DTSTART;VALUE=DATE:20190907
DTEND;VALUE=DATE:20190908
DTSTAMP:20210401T090902
CREATED:20190906T014304Z
LAST-MODIFIED:20190906T014304Z
UID:172952-1567814400-1567900799@www.patriotguard.org
SUMMARY:Qunnion Dean Burns
DESCRIPTION:Honor Mission\nQunnion Dean Burns\, Veteran\nUSA – Vietnam\nWetumpka\, Alabama – 09-07-19\n\n\n\nABOUT THE MISSION: \nThe family of Qunnion Dean Burns has requested the Patriot Guard stand a silent flag line at his memorial service with escort to his final resting place. Mr. Burns served honorably in the US Army from Jan 1970 to Aug 1971. Mr. Burns served a tour in Vietnam where he was awarded the Bronze Star for his heroic action in combat. His medals include the National Defense Service Medal\, Vietnam Service Medal\, Vietnam Campaign Medal and the Bronze Star Medal. This hero stood proud for us. Let us now stand in his honor.\n\n\nPRIMARY STAGING DETAILS: 09-07-19 \nStaging Time: 09:00 AM\n \nHolly Mart\n1615 Georgia Rd.\nWetumpka\, Alabama 36093\nMap\n\n\nRide Captain: \nJim Mason\njmason@reagan.com\n\n\nSpecial Instructions: \nStaging at 9:00am.\nKSU 9:15am.\nWe will proceed to Miracle Missionary Baptist Church\, Alexander City to stand a silent flag line.\nMemorial services at 11:00am.\nFollowing service we will escort the family to Bethlehem Baptist Church Cemetery\, Daviston Al.\nPlease bring your own water to stay hydrated.\n\n\nFlags & Water:\nFlags will be provided\nLarge Bike Flags will NOT be needed.\nWater WILL NOT be provided\, please bring your own.\n\n\n\nSubmitted By: James Mason \nPosition: Alabama Ride Captain \n\nNote: You do not have to own/ride a motorcycle or be a veteran to join\, and membership is Free. The only requirement is RESPECT! To subscribe to receive mission notices\, log into the National Site and click on the Members tab at the top. Select the Subscribe to PGR Missions option.\n Print This Page
URL:https://www.patriotguard.org/mission/qunnion-dean-burns/
CATEGORIES:Honor Mission
END:VEVENT
END:VCALENDAR