BEGIN:VCALENDAR
VERSION:2.0
PRODID:-//Patriot Guard Riders - ECPv5.6.0//NONSGML v1.0//EN
CALSCALE:GREGORIAN
METHOD:PUBLISH
X-WR-CALNAME:Patriot Guard Riders
X-ORIGINAL-URL:https://www.patriotguard.org
X-WR-CALDESC:Events for Patriot Guard Riders
BEGIN:VTIMEZONE
TZID:America/New_York
BEGIN:DAYLIGHT
TZOFFSETFROM:-0500
TZOFFSETTO:-0400
TZNAME:EDT
DTSTART:20160313T070000
END:DAYLIGHT
BEGIN:STANDARD
TZOFFSETFROM:-0400
TZOFFSETTO:-0500
TZNAME:EST
DTSTART:20161106T060000
END:STANDARD
END:VTIMEZONE
BEGIN:VEVENT
DTSTART;TZID=America/New_York:20160613T090000
DTEND;TZID=America/New_York:20160613T110000
DTSTAMP:20210513T181429
CREATED:20160613T130000Z
LAST-MODIFIED:20191201T145211Z
UID:411387-1465808400-1465815600@www.patriotguard.org
SUMMARY:Quentine Pershing DeVore\, USAAF
DESCRIPTION:Sgt Quentine Pershing DeVore\, Veteran WWII Bataan Death March – Grand Junction\, CO\, 13 Jun 2016 \nWe have been invited to attend the Funeral of Sgt Quentine Pershing DeVore\, Veteran US Army Air Corps WWII Bataan Death March Survivor Member of Western Slope Combined Honor Guard. \nInterment 1000(10am) 13 Jun at:\nVeterans Memorial Cemetery\n2830 Riverside Parkway\nGrand Junction\, CO \nStage 09:15am at Shelter Area \nRide Captain\nArt Edwards\nharleyroadk@yahoo.com
URL:https://www.patriotguard.org/mission/quentine-pershing-devore-usaaf/
CATEGORIES:Archive
END:VEVENT
END:VCALENDAR